BEGIN:VCALENDAR
VERSION:2.0
PRODID:-//Death Magnetic - ECPv5.10.1//NONSGML v1.0//EN
CALSCALE:GREGORIAN
METHOD:PUBLISH
X-WR-CALNAME:Death Magnetic
X-ORIGINAL-URL:https://deathmagnetic.pl
X-WR-CALDESC:Events for Death Magnetic
BEGIN:VTIMEZONE
TZID:Europe/Warsaw
BEGIN:DAYLIGHT
TZOFFSETFROM:+0100
TZOFFSETTO:+0200
TZNAME:CEST
DTSTART:20150329T010000
END:DAYLIGHT
BEGIN:STANDARD
TZOFFSETFROM:+0200
TZOFFSETTO:+0100
TZNAME:CET
DTSTART:20151025T010000
END:STANDARD
END:VTIMEZONE
BEGIN:VEVENT
DTSTART;TZID=Europe/Warsaw:20151211T190000
DTEND;TZID=Europe/Warsaw:20151211T230000
DTSTAMP:20260420T210204
CREATED:20150914T181417Z
LAST-MODIFIED:20150914T181417Z
UID:91707-1449860400-1449874800@deathmagnetic.pl
SUMMARY:Kadavar + Satan's Satyrs + Horisont
DESCRIPTION:Ceny biletów: \n65 zł Przedsprzedaż\n75 zł w dniu koncertu \nBilety dostępne na: \nwww.tickets.soundrive.pl\nwww.eventim.pl\nwww.ticketpro.pl\nwww.biletomat.pl\nwww.ebilet.pl\nwww.b90.pl
URL:https://deathmagnetic.pl/wydarzenie/kadavar-satans-satyrs-horisont/
LOCATION:B90\, Doki 1\, Gdańsk\, Polska
CATEGORIES:Koncerty,zagraniczne
ATTACH;FMTTYPE=image/jpeg:https://deathmagnetic.pl/wp-content/uploads/2015/09/Kadavar.jpg
ORGANIZER;CN="KnockOut%20Productions":MAILTO:info@knockoutprod.net
GEO:54.359932;18.6489966
X-APPLE-STRUCTURED-LOCATION;VALUE=URI;X-ADDRESS=B90 Doki 1 Gdańsk Polska;X-APPLE-RADIUS=500;X-TITLE=Doki 1:geo:18.6489966,54.359932
END:VEVENT
END:VCALENDAR