BEGIN:VCALENDAR
VERSION:2.0
PRODID:-//Death Magnetic - ECPv5.10.1//NONSGML v1.0//EN
CALSCALE:GREGORIAN
METHOD:PUBLISH
X-WR-CALNAME:Death Magnetic
X-ORIGINAL-URL:https://deathmagnetic.pl
X-WR-CALDESC:Events for Death Magnetic
BEGIN:VTIMEZONE
TZID:Europe/Warsaw
BEGIN:DAYLIGHT
TZOFFSETFROM:+0100
TZOFFSETTO:+0200
TZNAME:CEST
DTSTART:20150329T010000
END:DAYLIGHT
BEGIN:STANDARD
TZOFFSETFROM:+0200
TZOFFSETTO:+0100
TZNAME:CET
DTSTART:20151025T010000
END:STANDARD
END:VTIMEZONE
BEGIN:VEVENT
DTSTART;TZID=Europe/Warsaw:20151011T190000
DTEND;TZID=Europe/Warsaw:20151011T230000
DTSTAMP:20260421T074157
CREATED:20150927T171525Z
LAST-MODIFIED:20150927T171525Z
UID:92448-1444590000-1444604400@deathmagnetic.pl
SUMMARY:Kabanos + Woda Ski Bla
DESCRIPTION:Ceny biletów (przedsprzedaż / w dniu koncertu): \n30 zł / 40 zł \nBilety dostępne w klubie\, na Muzart.pl i Nuplays.pl \nW niektórych punktach do ceny biletu jest doliczana prowizja. \nOtwarcie bram: 19:00\nStart: 20:00
URL:https://deathmagnetic.pl/wydarzenie/kabanos-woda-ski-bla-4/
LOCATION:4 róże dla Lucienne\, Stary Rynek 17\, Zielona Góra\, 65-001\, Polska
CATEGORIES:Koncerty,Polskie
ATTACH;FMTTYPE=image/jpeg:https://deathmagnetic.pl/wp-content/uploads/2015/09/kabanos-plakat.jpg
GEO:51.938679;15.504601
X-APPLE-STRUCTURED-LOCATION;VALUE=URI;X-ADDRESS=4 róże dla Lucienne Stary Rynek 17 Zielona Góra 65-001 Polska;X-APPLE-RADIUS=500;X-TITLE=Stary Rynek 17:geo:15.504601,51.938679
END:VEVENT
END:VCALENDAR