BEGIN:VCALENDAR
VERSION:2.0
PRODID:-//Death Magnetic - ECPv5.10.1//NONSGML v1.0//EN
CALSCALE:GREGORIAN
METHOD:PUBLISH
X-WR-CALNAME:Death Magnetic
X-ORIGINAL-URL:https://deathmagnetic.pl
X-WR-CALDESC:Events for Death Magnetic
BEGIN:VTIMEZONE
TZID:Europe/Warsaw
BEGIN:DAYLIGHT
TZOFFSETFROM:+0100
TZOFFSETTO:+0200
TZNAME:CEST
DTSTART:20150329T010000
END:DAYLIGHT
BEGIN:STANDARD
TZOFFSETFROM:+0200
TZOFFSETTO:+0100
TZNAME:CET
DTSTART:20151025T010000
END:STANDARD
END:VTIMEZONE
BEGIN:VEVENT
DTSTART;TZID=Europe/Warsaw:20150308T180000
DTEND;TZID=Europe/Warsaw:20150308T230000
DTSTAMP:20260421T074158
CREATED:20150224T175008Z
LAST-MODIFIED:20150224T175008Z
UID:74091-1425837600-1425855600@deathmagnetic.pl
SUMMARY:Kabanos + Woda Ski Bla
DESCRIPTION:Ceny biletów (przedsprzedaż / w dniu koncertu): \n25 zł / 35 zł \nBilety dostępne w: \nKlubie Ave Cezar oraz na Nuplays. \nOtwarcie bram: 18:00\nStart: 19:00
URL:https://deathmagnetic.pl/wydarzenie/kabanos-woda-ski-bla-3/
LOCATION:Klub Ave Cezar\, Piłsudskiego 22\, Lubin\, 59-300\, Polska
CATEGORIES:Koncerty,Polskie
ATTACH;FMTTYPE=image/jpeg:https://deathmagnetic.pl/wp-content/uploads/2015/02/final_plakat_Kabanos_B2_spad_2mm_2015.jpg
GEO:51.3875763;16.2123205
X-APPLE-STRUCTURED-LOCATION;VALUE=URI;X-ADDRESS=Klub Ave Cezar Piłsudskiego 22 Lubin 59-300 Polska;X-APPLE-RADIUS=500;X-TITLE=Piłsudskiego 22:geo:16.2123205,51.3875763
END:VEVENT
END:VCALENDAR