BEGIN:VCALENDAR
VERSION:2.0
PRODID:-//Death Magnetic - ECPv5.10.1//NONSGML v1.0//EN
CALSCALE:GREGORIAN
METHOD:PUBLISH
X-WR-CALNAME:Death Magnetic
X-ORIGINAL-URL:https://deathmagnetic.pl
X-WR-CALDESC:Events for Death Magnetic
BEGIN:VTIMEZONE
TZID:Europe/Warsaw
BEGIN:DAYLIGHT
TZOFFSETFROM:+0100
TZOFFSETTO:+0200
TZNAME:CEST
DTSTART:20160327T010000
END:DAYLIGHT
BEGIN:STANDARD
TZOFFSETFROM:+0200
TZOFFSETTO:+0100
TZNAME:CET
DTSTART:20161030T010000
END:STANDARD
END:VTIMEZONE
BEGIN:VEVENT
DTSTART;TZID=Europe/Warsaw:20161015T200000
DTEND;TZID=Europe/Warsaw:20161015T230000
DTSTAMP:20260421T123451
CREATED:20161001T174616Z
LAST-MODIFIED:20161001T174616Z
UID:106036-1476561600-1476572400@deathmagnetic.pl
SUMMARY:Kabanos + Venflon
DESCRIPTION:DO GÓRY DO CHMURY TOUR 2016 \n19:00 wejście\n20:00 start \nBilety:\n30zł przedsprzedaż\n40zł w dniu koncertu \nBilety dostyępne w klubie\, oraz na kabanos.nuplays.pl.
URL:https://deathmagnetic.pl/wydarzenie/kabanos-venflon/
LOCATION:Scenografia\, Zachodnia 81/83\, Łódź\, Polska
CATEGORIES:Koncerty,Polskie
ATTACH;FMTTYPE=image/jpeg:https://deathmagnetic.pl/wp-content/uploads/2016/10/kabanos_scenografia.jpg
GEO:51.7746775;19.4521396
X-APPLE-STRUCTURED-LOCATION;VALUE=URI;X-ADDRESS=Scenografia Zachodnia 81/83 Łódź Polska;X-APPLE-RADIUS=500;X-TITLE=Zachodnia 81/83:geo:19.4521396,51.7746775
END:VEVENT
END:VCALENDAR