BEGIN:VCALENDAR
VERSION:2.0
PRODID:-//Death Magnetic - ECPv5.10.1//NONSGML v1.0//EN
CALSCALE:GREGORIAN
METHOD:PUBLISH
X-WR-CALNAME:Death Magnetic
X-ORIGINAL-URL:https://deathmagnetic.pl
X-WR-CALDESC:Events for Death Magnetic
BEGIN:VTIMEZONE
TZID:Europe/Warsaw
BEGIN:DAYLIGHT
TZOFFSETFROM:+0100
TZOFFSETTO:+0200
TZNAME:CEST
DTSTART:20150329T010000
END:DAYLIGHT
BEGIN:STANDARD
TZOFFSETFROM:+0200
TZOFFSETTO:+0100
TZNAME:CET
DTSTART:20151025T010000
END:STANDARD
END:VTIMEZONE
BEGIN:VEVENT
DTSTART;TZID=Europe/Warsaw:20151023T190000
DTEND;TZID=Europe/Warsaw:20151023T230000
DTSTAMP:20260421T092135
CREATED:20151003T182621Z
LAST-MODIFIED:20151003T182621Z
UID:92939-1445626800-1445641200@deathmagnetic.pl
SUMMARY:Kabanos + Spirit
DESCRIPTION:Ceny biletów (przedsprzedaż / w dniu koncertu): \n25 zł / 35 zł \nBilety dostępne w klubie i na Nuplays.pl \nW niektórych punktach do ceny biletu jest doliczana prowizja. \nOtwarcie bram: 19:00\nStart: 20:00
URL:https://deathmagnetic.pl/wydarzenie/kabanos-spirit-4/
LOCATION:Piwiarnia Warka\, Chłodna 2\, Suwałki\, 16-400\, Polska
CATEGORIES:Koncerty,Polskie
ATTACH;FMTTYPE=image/jpeg:https://deathmagnetic.pl/wp-content/uploads/2015/09/kabanos-plakat.jpg
GEO:54.1012203;22.9291173
X-APPLE-STRUCTURED-LOCATION;VALUE=URI;X-ADDRESS=Piwiarnia Warka Chłodna 2 Suwałki 16-400 Polska;X-APPLE-RADIUS=500;X-TITLE=Chłodna 2:geo:22.9291173,54.1012203
END:VEVENT
END:VCALENDAR