BEGIN:VCALENDAR
VERSION:2.0
PRODID:-//Death Magnetic - ECPv5.10.1//NONSGML v1.0//EN
CALSCALE:GREGORIAN
METHOD:PUBLISH
X-WR-CALNAME:Death Magnetic
X-ORIGINAL-URL:https://deathmagnetic.pl
X-WR-CALDESC:Events for Death Magnetic
BEGIN:VTIMEZONE
TZID:Europe/Warsaw
BEGIN:DAYLIGHT
TZOFFSETFROM:+0100
TZOFFSETTO:+0200
TZNAME:CEST
DTSTART:20150329T010000
END:DAYLIGHT
BEGIN:STANDARD
TZOFFSETFROM:+0200
TZOFFSETTO:+0100
TZNAME:CET
DTSTART:20151025T010000
END:STANDARD
END:VTIMEZONE
BEGIN:VEVENT
DTSTART;TZID=Europe/Warsaw:20151003T190000
DTEND;TZID=Europe/Warsaw:20151003T230000
DTSTAMP:20260421T104857
CREATED:20150927T134630Z
LAST-MODIFIED:20150927T134630Z
UID:92435-1443898800-1443913200@deathmagnetic.pl
SUMMARY:Kabanos + Scarlet Skies
DESCRIPTION:Ceny biletów (przedsprzedaż / w dniu koncertu): \n40 zł / 45 zł \n– 200 szt. wyłącznie rezerwacje: bilety@o2.pl – 35 zł\n– miejsca siedzące ( balkon) – 50 zł \nBilety dostępne w: \nW sieci salonów Empik\, Saturn i MediaMarkt w całej Polsce oraz w serwisach: www.biletin.pl\, www.ticketpro.pl\, www.ebilet.pl\, www.eventim.pl\, www.nuplays.pl. \nRezerwacje: bilety@o2.pl \nW niektórych punktach do ceny biletu jest doliczana prowizja. \nOtwarcie bram: 19:00\nStart: 20:00
URL:https://deathmagnetic.pl/wydarzenie/kabanos-scarlet-skies-4/
LOCATION:Stary Klasztor\, Purkyniego 1\, Wrocław\, Polska
CATEGORIES:Koncerty,Polskie
ATTACH;FMTTYPE=image/jpeg:https://deathmagnetic.pl/wp-content/uploads/2015/09/kabanos-plakat.jpg
GEO:51.1101998;17.0396273
X-APPLE-STRUCTURED-LOCATION;VALUE=URI;X-ADDRESS=Stary Klasztor Purkyniego 1 Wrocław Polska;X-APPLE-RADIUS=500;X-TITLE=Purkyniego 1:geo:17.0396273,51.1101998
END:VEVENT
END:VCALENDAR