BEGIN:VCALENDAR
VERSION:2.0
PRODID:-//Death Magnetic - ECPv5.10.1//NONSGML v1.0//EN
CALSCALE:GREGORIAN
METHOD:PUBLISH
X-WR-CALNAME:Death Magnetic
X-ORIGINAL-URL:https://deathmagnetic.pl
X-WR-CALDESC:Events for Death Magnetic
BEGIN:VTIMEZONE
TZID:Europe/Warsaw
BEGIN:DAYLIGHT
TZOFFSETFROM:+0100
TZOFFSETTO:+0200
TZNAME:CEST
DTSTART:20150329T010000
END:DAYLIGHT
BEGIN:STANDARD
TZOFFSETFROM:+0200
TZOFFSETTO:+0100
TZNAME:CET
DTSTART:20151025T010000
END:STANDARD
END:VTIMEZONE
BEGIN:VEVENT
DTSTART;TZID=Europe/Warsaw:20150320T183000
DTEND;TZID=Europe/Warsaw:20150320T230000
DTSTAMP:20260421T073304
CREATED:20150224T225457Z
LAST-MODIFIED:20150224T225457Z
UID:74450-1426876200-1426892400@deathmagnetic.pl
SUMMARY:Kabanos + Plan
DESCRIPTION:Ceny biletów (przedsprzedaż / w dniu koncertu): \n25 zł / 35 zł \nBilety dostępne w: \nKlubie Akcent\, Centrum Kulktury Teatr – ul.Teatralna 1 oraz na Nuplays. \nOtwarcie bram: 18:30\nStart: 19:30
URL:https://deathmagnetic.pl/wydarzenie/kabanos-plan-4/
LOCATION:Klub Akcent\, Wybickiego 38/40\, Grudziądz\, 86 300\, Polska
CATEGORIES:Koncerty,Polskie
ATTACH;FMTTYPE=image/jpeg:https://deathmagnetic.pl/wp-content/uploads/2015/02/final_plakat_Kabanos_B2_spad_2mm_2015.jpg
GEO:53.4955789;18.7554759
X-APPLE-STRUCTURED-LOCATION;VALUE=URI;X-ADDRESS=Klub Akcent Wybickiego 38/40 Grudziądz 86 300 Polska;X-APPLE-RADIUS=500;X-TITLE=Wybickiego 38/40:geo:18.7554759,53.4955789
END:VEVENT
END:VCALENDAR