BEGIN:VCALENDAR
VERSION:2.0
PRODID:-//Death Magnetic - ECPv5.10.1//NONSGML v1.0//EN
CALSCALE:GREGORIAN
METHOD:PUBLISH
X-WR-CALNAME:Death Magnetic
X-ORIGINAL-URL:https://deathmagnetic.pl
X-WR-CALDESC:Events for Death Magnetic
BEGIN:VTIMEZONE
TZID:Europe/Warsaw
BEGIN:DAYLIGHT
TZOFFSETFROM:+0100
TZOFFSETTO:+0200
TZNAME:CEST
DTSTART:20160327T010000
END:DAYLIGHT
BEGIN:STANDARD
TZOFFSETFROM:+0200
TZOFFSETTO:+0100
TZNAME:CET
DTSTART:20161030T010000
END:STANDARD
END:VTIMEZONE
BEGIN:VEVENT
DTSTART;TZID=Europe/Warsaw:20160611T200000
DTEND;TZID=Europe/Warsaw:20160611T230000
DTSTAMP:20260420T223551
CREATED:20160504T164812Z
LAST-MODIFIED:20160504T164812Z
UID:100335-1465675200-1465686000@deathmagnetic.pl
SUMMARY:Kabanos + Nocny Kochanek
DESCRIPTION:Ceny biletów:\n– 30zł – przedsprzedaż\n– 40zł – w dniu koncertu \nPUNKTY SPRZEDAŻY BILETÓW:\nZABRZE: Klub Wiatrak:\n– zakup wprost ze strony klubowej za pośrednictwem systemu transferuj.pl ( płatne na konto\, odbiór w dniu koncertu)\n– w trakcie imprez oraz innych koncertów.\n– w dniu koncertu od godz:19.30\nEVENTIM: cały kraj EMPik (sieć dolicza prowizję do ceny biletu)\nBiletyna.pl\nBiletomat.pl\na w sklepach poniżej : bilety będą już w sobotę 7 maja !\nZABRZE: Music Centrum\, DW.PKP.\nGLIWICE: Czas\, Zwycięstwa 1.\nKATOWICE: All\, Mickiewicza 14.
URL:https://deathmagnetic.pl/wydarzenie/kabanos-nocny-kochanek/
LOCATION:CK Wiatrak\, ul. Wolności 395\, Zabrze\, 41-806\, Polska
CATEGORIES:Koncerty,Polskie
ATTACH;FMTTYPE=image/jpeg:https://deathmagnetic.pl/wp-content/uploads/2016/05/kabanos.jpg
GEO:50.2947362;18.8074104
X-APPLE-STRUCTURED-LOCATION;VALUE=URI;X-ADDRESS=CK Wiatrak ul. Wolności 395 Zabrze 41-806 Polska;X-APPLE-RADIUS=500;X-TITLE=ul. Wolności 395:geo:18.8074104,50.2947362
END:VEVENT
END:VCALENDAR