BEGIN:VCALENDAR
VERSION:2.0
PRODID:-//Death Magnetic - ECPv5.10.1//NONSGML v1.0//EN
CALSCALE:GREGORIAN
METHOD:PUBLISH
X-WR-CALNAME:Death Magnetic
X-ORIGINAL-URL:https://deathmagnetic.pl
X-WR-CALDESC:Events for Death Magnetic
BEGIN:VTIMEZONE
TZID:Europe/Warsaw
BEGIN:DAYLIGHT
TZOFFSETFROM:+0100
TZOFFSETTO:+0200
TZNAME:CEST
DTSTART:20150329T010000
END:DAYLIGHT
BEGIN:STANDARD
TZOFFSETFROM:+0200
TZOFFSETTO:+0100
TZNAME:CET
DTSTART:20151025T010000
END:STANDARD
END:VTIMEZONE
BEGIN:VEVENT
DTSTART;TZID=Europe/Warsaw:20151016T190000
DTEND;TZID=Europe/Warsaw:20151016T230000
DTSTAMP:20260420T222106
CREATED:20151003T175011Z
LAST-MODIFIED:20151003T175011Z
UID:92937-1445022000-1445036400@deathmagnetic.pl
SUMMARY:Kabanos + Ametria
DESCRIPTION:Ceny biletów (przedsprzedaż / w dniu koncertu): \n30 zł / 40 zł \nBilety dostępne w klubie i na Nuplays.pl \nW niektórych punktach do ceny biletu jest doliczana prowizja. \nOtwarcie bram: 19:00\nStart: 20:00
URL:https://deathmagnetic.pl/wydarzenie/kabanos-ametria/
LOCATION:C-60\, Zaułek 1\, Gorzów Wielkopolski\, 66-400\, Polska
CATEGORIES:Koncerty,Polskie
ATTACH;FMTTYPE=image/jpeg:https://deathmagnetic.pl/wp-content/uploads/2015/09/kabanos-plakat.jpg
GEO:52.7295452;15.2367685
X-APPLE-STRUCTURED-LOCATION;VALUE=URI;X-ADDRESS=C-60 Zaułek 1 Gorzów Wielkopolski 66-400 Polska;X-APPLE-RADIUS=500;X-TITLE=Zaułek 1:geo:15.2367685,52.7295452
END:VEVENT
END:VCALENDAR