BEGIN:VCALENDAR
VERSION:2.0
PRODID:-//Death Magnetic - ECPv5.10.1//NONSGML v1.0//EN
CALSCALE:GREGORIAN
METHOD:PUBLISH
X-WR-CALNAME:Death Magnetic
X-ORIGINAL-URL:https://deathmagnetic.pl
X-WR-CALDESC:Events for Death Magnetic
BEGIN:VTIMEZONE
TZID:Europe/Warsaw
BEGIN:DAYLIGHT
TZOFFSETFROM:+0100
TZOFFSETTO:+0200
TZNAME:CEST
DTSTART:20150329T010000
END:DAYLIGHT
BEGIN:STANDARD
TZOFFSETFROM:+0200
TZOFFSETTO:+0100
TZNAME:CET
DTSTART:20151025T010000
END:STANDARD
END:VTIMEZONE
BEGIN:VEVENT
DTSTART;TZID=Europe/Warsaw:20151031T190000
DTEND;TZID=Europe/Warsaw:20151031T230000
DTSTAMP:20260421T074031
CREATED:20151003T184235Z
LAST-MODIFIED:20151003T184235Z
UID:92945-1446318000-1446332400@deathmagnetic.pl
SUMMARY:Kabanos + Ametria
DESCRIPTION:Ceny biletów (przedsprzedaż / w dniu koncertu): \n30 zł / 40 zł \nBilety dostępne w klubie i na Nuplays.pl \nW niektórych punktach do ceny biletu jest doliczana prowizja. \nOtwarcie bram: 19:00\nStart: 20:00
URL:https://deathmagnetic.pl/wydarzenie/kabanos-ametria-2/
LOCATION:Club Barka\, Wodna - rzeka Gwda\, Piła\, 64-920\, Polska
CATEGORIES:Koncerty,Polskie
ATTACH;FMTTYPE=image/jpeg:https://deathmagnetic.pl/wp-content/uploads/2015/09/kabanos-plakat.jpg
GEO:53.1509671;16.7382266
X-APPLE-STRUCTURED-LOCATION;VALUE=URI;X-ADDRESS=Club Barka Wodna - rzeka Gwda Piła 64-920 Polska;X-APPLE-RADIUS=500;X-TITLE=Wodna - rzeka Gwda:geo:16.7382266,53.1509671
END:VEVENT
END:VCALENDAR