BEGIN:VCALENDAR
VERSION:2.0
PRODID:-//Death Magnetic - ECPv5.10.1//NONSGML v1.0//EN
CALSCALE:GREGORIAN
METHOD:PUBLISH
X-WR-CALNAME:Death Magnetic
X-ORIGINAL-URL:https://deathmagnetic.pl
X-WR-CALDESC:Events for Death Magnetic
BEGIN:VTIMEZONE
TZID:Europe/Warsaw
BEGIN:DAYLIGHT
TZOFFSETFROM:+0100
TZOFFSETTO:+0200
TZNAME:CEST
DTSTART:20150329T010000
END:DAYLIGHT
BEGIN:STANDARD
TZOFFSETFROM:+0200
TZOFFSETTO:+0100
TZNAME:CET
DTSTART:20151025T010000
END:STANDARD
END:VTIMEZONE
BEGIN:VEVENT
DTSTART;TZID=Europe/Warsaw:20150331T110000
DTEND;TZID=Europe/Warsaw:20150331T130000
DTSTAMP:20260421T074021
CREATED:20150222T115023Z
LAST-MODIFIED:20150224T183546Z
UID:73571-1427799600-1427806800@deathmagnetic.pl
SUMMARY:Jesus Christ Superstar
DESCRIPTION:Ceny biletów (normalny / ulgowy): \n– Sektor I : 65 zł / 55 zł \n– Sektor II: 55 zł / 43 zł \n– Sektor III: 43 zł / 33 zł \n– VIP: 95 zł \nBilety do kupienia na TeatrMuzyczny \nStart: 11:00
URL:https://deathmagnetic.pl/wydarzenie/jesus-christ-superstar-6/
LOCATION:Teatr Muzyczny w Łodzi\, ul. Północna 47/51\, Łódź\, Polska
CATEGORIES:Koncerty,Polskie
ATTACH;FMTTYPE=image/jpeg:https://deathmagnetic.pl/wp-content/uploads/2015/02/Jesus-Christ-Superstar.jpg
ORGANIZER;CN="Teatr%20Muzyczny%20w%20%C5%81odzi":MAILTO:info@teatr-muzyczny.lodz.pl
GEO:51.780147;19.473162
X-APPLE-STRUCTURED-LOCATION;VALUE=URI;X-ADDRESS=Teatr Muzyczny w Łodzi ul. Północna 47/51 Łódź Polska;X-APPLE-RADIUS=500;X-TITLE=ul. Północna 47/51:geo:19.473162,51.780147
END:VEVENT
END:VCALENDAR