BEGIN:VCALENDAR
VERSION:2.0
PRODID:-//Death Magnetic - ECPv5.10.1//NONSGML v1.0//EN
CALSCALE:GREGORIAN
METHOD:PUBLISH
X-WR-CALNAME:Death Magnetic
X-ORIGINAL-URL:https://deathmagnetic.pl
X-WR-CALDESC:Events for Death Magnetic
BEGIN:VTIMEZONE
TZID:Europe/Warsaw
BEGIN:DAYLIGHT
TZOFFSETFROM:+0100
TZOFFSETTO:+0200
TZNAME:CEST
DTSTART:20150329T010000
END:DAYLIGHT
BEGIN:STANDARD
TZOFFSETFROM:+0200
TZOFFSETTO:+0100
TZNAME:CET
DTSTART:20151025T010000
END:STANDARD
END:VTIMEZONE
BEGIN:VEVENT
DTSTART;TZID=Europe/Warsaw:20150605T183000
DTEND;TZID=Europe/Warsaw:20150605T230000
DTSTAMP:20260421T053412
CREATED:20150421T184138Z
LAST-MODIFIED:20150421T184138Z
UID:80825-1433529000-1433545200@deathmagnetic.pl
SUMMARY:Jelonek
DESCRIPTION:Ceny biletów (w przedsprzedaży/w dniu koncertu): 35zł/40zł \nOtwarcie bram: 18:30\nKoniec: 23:00
URL:https://deathmagnetic.pl/wydarzenie/jelonek/
LOCATION:CK Wiatrak\, ul. Wolności 395\, Zabrze\, 41-806\, Polska
CATEGORIES:Koncerty,Polskie
ATTACH;FMTTYPE=image/jpeg:https://deathmagnetic.pl/wp-content/uploads/2015/04/jelonek.jpg
GEO:50.2947362;18.8074104
X-APPLE-STRUCTURED-LOCATION;VALUE=URI;X-ADDRESS=CK Wiatrak ul. Wolności 395 Zabrze 41-806 Polska;X-APPLE-RADIUS=500;X-TITLE=ul. Wolności 395:geo:18.8074104,50.2947362
END:VEVENT
END:VCALENDAR