BEGIN:VCALENDAR
VERSION:2.0
PRODID:-//Death Magnetic - ECPv5.10.1//NONSGML v1.0//EN
CALSCALE:GREGORIAN
METHOD:PUBLISH
X-WR-CALNAME:Death Magnetic
X-ORIGINAL-URL:https://deathmagnetic.pl
X-WR-CALDESC:Events for Death Magnetic
BEGIN:VTIMEZONE
TZID:Europe/Warsaw
BEGIN:DAYLIGHT
TZOFFSETFROM:+0100
TZOFFSETTO:+0200
TZNAME:CEST
DTSTART:20160327T010000
END:DAYLIGHT
BEGIN:STANDARD
TZOFFSETFROM:+0200
TZOFFSETTO:+0100
TZNAME:CET
DTSTART:20161030T010000
END:STANDARD
END:VTIMEZONE
BEGIN:VEVENT
DTSTART;TZID=Europe/Warsaw:20161211T200000
DTEND;TZID=Europe/Warsaw:20161211T230000
DTSTAMP:20260421T073834
CREATED:20161207T171018Z
LAST-MODIFIED:20161207T171640Z
UID:109311-1481486400-1481497200@deathmagnetic.pl
SUMMARY:Jelonek
DESCRIPTION:Bilety:\nKolekcjonerski bilet z puli P.W. Events – 30 PLN\nPrzedsprzedaż – 35 PLN\nMiejsca siedzące – 35 PLN\nW dniu koncertu – 40 PLN \nWejściówki do nabycia także w miejscu wydarzenia\, sklepie Rock Long Luck\, Centrum Informacji Miejskiej oraz za pośrednictwem platform Ticketpro\, Eventim\, eBilet\, Biletomat.
URL:https://deathmagnetic.pl/wydarzenie/jelonek-3/
LOCATION:Blue Note Jazz Club\, ul. Kościuszki 79\, Poznań\, 61-891\, Polska
CATEGORIES:Koncerty,Polskie
ATTACH;FMTTYPE=image/jpeg:https://deathmagnetic.pl/wp-content/uploads/2016/12/jelonek.jpg
ORGANIZER;CN="P.W.%20Events":MAILTO:piotr@pwevents.pl
END:VEVENT
END:VCALENDAR