BEGIN:VCALENDAR
VERSION:2.0
PRODID:-//Death Magnetic - ECPv5.10.1//NONSGML v1.0//EN
CALSCALE:GREGORIAN
METHOD:PUBLISH
X-WR-CALNAME:Death Magnetic
X-ORIGINAL-URL:https://deathmagnetic.pl
X-WR-CALDESC:Events for Death Magnetic
BEGIN:VTIMEZONE
TZID:Europe/Warsaw
BEGIN:DAYLIGHT
TZOFFSETFROM:+0100
TZOFFSETTO:+0200
TZNAME:CEST
DTSTART:20170326T010000
END:DAYLIGHT
BEGIN:STANDARD
TZOFFSETFROM:+0200
TZOFFSETTO:+0100
TZNAME:CET
DTSTART:20171029T010000
END:STANDARD
END:VTIMEZONE
BEGIN:VEVENT
DTSTART;TZID=Europe/Warsaw:20170822T200000
DTEND;TZID=Europe/Warsaw:20170822T233000
DTSTAMP:20260421T110434
CREATED:20170525T184248Z
LAST-MODIFIED:20170525T184248Z
UID:118427-1503432000-1503444600@deathmagnetic.pl
SUMMARY:Japandroids
DESCRIPTION:Data: 2017-08-22 (wtorek)\nMiasto: Warszawa\nMiejsce: Hydrozagadka\nAdres: ul. 11 listopada 22\nGodziny: wejście: 19:00\, start: 20:00\nStart sprzedaży biletów: 26.05.2017\, 10:00\nMiejsca sprzedaży: www.go-ahead.pl\, www.biletomat.pl\, www.ebilet.pl\,www.ticketpro.pl\, www.ticketmaster.pl\, oraz sklepy sieci Empik\, Media Markt\, Saturn
URL:https://deathmagnetic.pl/wydarzenie/japandroids/
LOCATION:Hydrozagadka\, 11 listopada 22\, Warszawa\, Polska
CATEGORIES:Koncerty,zagraniczne
ATTACH;FMTTYPE=image/jpeg:https://deathmagnetic.pl/wp-content/uploads/2017/05/Japandroids-_PL.jpg
ORGANIZER;CN="Go%20Ahead":MAILTO:agencja@go-ahead.pl
GEO:52.259164;21.0363389
X-APPLE-STRUCTURED-LOCATION;VALUE=URI;X-ADDRESS=Hydrozagadka 11 listopada 22 Warszawa Polska;X-APPLE-RADIUS=500;X-TITLE=11 listopada 22:geo:21.0363389,52.259164
END:VEVENT
END:VCALENDAR