BEGIN:VCALENDAR
VERSION:2.0
PRODID:-//Death Magnetic - ECPv5.10.1//NONSGML v1.0//EN
CALSCALE:GREGORIAN
METHOD:PUBLISH
X-WR-CALNAME:Death Magnetic
X-ORIGINAL-URL:https://deathmagnetic.pl
X-WR-CALDESC:Events for Death Magnetic
BEGIN:VTIMEZONE
TZID:Europe/Warsaw
BEGIN:DAYLIGHT
TZOFFSETFROM:+0100
TZOFFSETTO:+0200
TZNAME:CEST
DTSTART:20160327T010000
END:DAYLIGHT
BEGIN:STANDARD
TZOFFSETFROM:+0200
TZOFFSETTO:+0100
TZNAME:CET
DTSTART:20161030T010000
END:STANDARD
END:VTIMEZONE
BEGIN:VEVENT
DTSTART;TZID=Europe/Warsaw:20160119T200000
DTEND;TZID=Europe/Warsaw:20160119T220000
DTSTAMP:20260421T015242
CREATED:20160113T165819Z
LAST-MODIFIED:20160113T165819Z
UID:96506-1453233600-1453240800@deathmagnetic.pl
SUMMARY:Janis Joplin „Janis: Little Girl Blue” [MULTIKINO]
DESCRIPTION:Ceny biletów: \n\nWarszawa: 27 zł\nGdańsk\, Gdynia\, Kraków\, Łódź\, Poznań\, Wrocław: 25 zł\nPozostałe: 23 zł\n\n„Janis: Little Girl Blue” będzie można zobaczyć przedpremierowo 19 stycznia o godz. 20.00 w wybranych kinach sieci Multikino: Bydgoszcz\, Gdańsk\, Gdynia\, Jaworzno\, Katowice\, Koszalin\, Kraków\, Lublin\, Łódź\, Olsztyn\, Poznań 51\, Rybnik\, Rzeszów\, Szczecin\, Warszawa – Ursynów\, Warszawa – Złote Tarasy\, Wrocław – Pasaż\, Zabrze. \nBilety na przedpremierowy pokaz „Janis: Little Girl Blue” można nabyć w kasach biletowych kin oraz online.
URL:https://deathmagnetic.pl/wydarzenie/janis-joplin-janis-little-girl-blue-multikino/
LOCATION:Miejsce bez nazwy\, mazowieckie
ATTACH;FMTTYPE=image/jpeg:https://deathmagnetic.pl/wp-content/uploads/2016/01/JanisJoplin_605x200_f71d464899.jpeg.605x200_q90_crop.jpeg
GEO:51.8927182;21.0021679
END:VEVENT
END:VCALENDAR