BEGIN:VCALENDAR
VERSION:2.0
PRODID:-//Death Magnetic - ECPv5.10.1//NONSGML v1.0//EN
CALSCALE:GREGORIAN
METHOD:PUBLISH
X-WR-CALNAME:Death Magnetic
X-ORIGINAL-URL:https://deathmagnetic.pl
X-WR-CALDESC:Events for Death Magnetic
BEGIN:VTIMEZONE
TZID:Europe/Warsaw
BEGIN:DAYLIGHT
TZOFFSETFROM:+0100
TZOFFSETTO:+0200
TZNAME:CEST
DTSTART:20150329T010000
END:DAYLIGHT
BEGIN:STANDARD
TZOFFSETFROM:+0200
TZOFFSETTO:+0100
TZNAME:CET
DTSTART:20151025T010000
END:STANDARD
END:VTIMEZONE
BEGIN:VEVENT
DTSTART;TZID=Europe/Warsaw:20150613T190000
DTEND;TZID=Europe/Warsaw:20150613T230000
DTSTAMP:20260421T092109
CREATED:20150531T190145Z
LAST-MODIFIED:20150531T190145Z
UID:84664-1434222000-1434236400@deathmagnetic.pl
SUMMARY:Jack Crusher + Rotengeist + Heat Affected Zone
DESCRIPTION:Ceny biletów:\n– przedsprzedaż – 9zł\n– w dniu koncertu – 9zł \nStart: 19:00
URL:https://deathmagnetic.pl/wydarzenie/jack-crusher-rotengeist-heat-affected-zone/
LOCATION:Klub Studencki Przepraszam\, Rynek 10\, Tarnów\, 33-100\, Polska
ATTACH;FMTTYPE=image/jpeg:https://deathmagnetic.pl/wp-content/uploads/2015/05/jack_crusher_heat_affected_zone_rotengeist.jpg
GEO:50.012155;20.9887799
X-APPLE-STRUCTURED-LOCATION;VALUE=URI;X-ADDRESS=Klub Studencki Przepraszam Rynek 10 Tarnów 33-100 Polska;X-APPLE-RADIUS=500;X-TITLE=Rynek 10:geo:20.9887799,50.012155
END:VEVENT
END:VCALENDAR