BEGIN:VCALENDAR
VERSION:2.0
PRODID:-//Death Magnetic - ECPv5.10.1//NONSGML v1.0//EN
CALSCALE:GREGORIAN
METHOD:PUBLISH
X-WR-CALNAME:Death Magnetic
X-ORIGINAL-URL:https://deathmagnetic.pl
X-WR-CALDESC:Events for Death Magnetic
BEGIN:VTIMEZONE
TZID:Europe/Warsaw
BEGIN:DAYLIGHT
TZOFFSETFROM:+0100
TZOFFSETTO:+0200
TZNAME:CEST
DTSTART:20160327T010000
END:DAYLIGHT
BEGIN:STANDARD
TZOFFSETFROM:+0200
TZOFFSETTO:+0100
TZNAME:CET
DTSTART:20161030T010000
END:STANDARD
END:VTIMEZONE
BEGIN:VEVENT
DTSTART;TZID=Europe/Warsaw:20160826T200000
DTEND;TZID=Europe/Warsaw:20160826T235500
DTSTAMP:20260421T072445
CREATED:20160809T120232Z
LAST-MODIFIED:20160809T120232Z
UID:104239-1472241600-1472255700@deathmagnetic.pl
SUMMARY:Iron Maidnem i P.A.G.E
DESCRIPTION:Bilety:\n20zł – przedsprzedaż\n30zł – dzień koncertu. \nIron Maidnem\nZespół IRON MAIDNEM istnieje od 1996 roku. Nazwa zespołu jest trochę przewrotna\, gdyż „majdnem” oznacza „prawie” w języku węgierskim. Zespół początkowo traktował granie jako hobby. Muzycy byli członkami innych znanych węgierskich zespołów. Oni po prostu spotkali się w tym zespole grać swoje ulubione piosenki Iron Maiden. Gdy zauważyli\, że coraz więcej ludzi przychodzi\, aby zobaczyć ich występy \, potraktowali sprawę bardziej poważnie i profesjonalnie. Teraz zespół gra na wszystkich ważniejszych festiwalach na Węgrzech\, jako gwiazda wieczoru\, przed tysiącami ludzi. Fani wypowiadają się entuzjastycznie o zespole i jakości odtwarzanych utworów Maidenów. Na koncerty przywożą sporo akcesoriów\, ale najważniejsza jest 2\,5-metrowa figura ruchomego Eddie\, co sprawia że możemy się czuć tak\, jakbyśmy oglądali prawdziwy Iron Maiden show. Dziś\, Iron Maidnem gra wiele koncertów poza granicami Węgier. Grają w Niemczech\, Słowacji\, Rumunii i Serbii\, Danii\, Szwajcarii i Chorwacji. Iron Maidnem opublikowało kilka albumów by udowodnić\, że mogą grać utwory Iron Maiden dokładnie jak ich ikony. Na tych nagraniach można posłuchać takich klasyków\, jak „Wasted Years”\, „The Trooper”\, „Seventh Son of a Seventh Son”\, „Hallowed Be Thy Name”\, „The Prisoner”\, i rarytasy jak „To TameLand „\, i tak dalej. Iron Maidnem gra około 60 utworów Maidenów wśród nich takie tytuły\, które Iron Maiden nigdy nie grał na żywo\, jak „Alexander the Great”\, „Back in the Village”\, „Invaders”\, „Gangland”\, „Only the Good Die Young”\, a także między innymi takich utworów jak \, „Moonchild”\,” Aces High” i „Flight of Icarus”\, które dawno już zniknęły z repertuaru ich oryginalnych wykonawców.\nPrzyjdź i zobacz!!!!!! IRON MAIDNEM TRIBUTE BAND !!! \n\nP.A.G.E\n\nZespół powstał w 2013 roku\, w dniu 1 maja. Członkowie grupy spotkali się w zespole New Gephard\, który powstał w 2010roku. Po zmianach kadrowych w maju 2012\, przyszedł czas na kolejne zmiany. W wyniku półrocznej współpracy powstał materiał\, który odbiegał od wcześniejszych założeń grupy. W związku z tym zespół postanowił zmienić nazwę. Po długich negocjacjach\, za i przeciw\, walce na pięści\, powstaje P.A.G.E. Nazwa zostaje zaczerpnięta z dawnego zespołu wokalisty Jakuba\, któremu nie było dane wyjść z garażu. Zgrany kwintet zapisuje nową stronę swej historii w rozdziale…. Ciężkie brzmienie. P.A.G.E dzielił scenę między innymi z Acid Drinkers\, Budką Suflera\, TSA\, Proletaryat\, Closterkeller\, Totentanz\, Farben Lehre\, KSU\, Enclose\,Oberschlesien\, Dragon’s Eye\, Clock Machine\, Thy Disease.\nZespół ma na swoim koncie także występy na festiwalu Krushfest 2012\, Zenemplen Fesztival na Węgrzech\, „Pomieszajmy języki” w Rymanowie. „Rock &Rose Festiwal w Kutnie\,\nW październiku 2013 roku\, zespół nagrał pierwsze demo pt. „Nie Wiem”
URL:https://deathmagnetic.pl/wydarzenie/iron-maidnem-i-p-a-g-e/
LOCATION:MOTO PUB Garage\, Grunwaldzka 37\, Kutno \, łódzkie\, 99-300\, Polska
CATEGORIES:Koncerty,patronaty,zagraniczne
ATTACH;FMTTYPE=image/jpeg:https://deathmagnetic.pl/wp-content/uploads/2016/08/13898401_1056286847791350_2096806363_o.jpg
GEO:52.2281178;19.3815478
X-APPLE-STRUCTURED-LOCATION;VALUE=URI;X-ADDRESS=MOTO PUB Garage Grunwaldzka 37 Kutno  łódzkie 99-300 Polska;X-APPLE-RADIUS=500;X-TITLE=Grunwaldzka 37:geo:19.3815478,52.2281178
END:VEVENT
END:VCALENDAR