BEGIN:VCALENDAR
VERSION:2.0
PRODID:-//Death Magnetic - ECPv5.10.1//NONSGML v1.0//EN
CALSCALE:GREGORIAN
METHOD:PUBLISH
X-WR-CALNAME:Death Magnetic
X-ORIGINAL-URL:https://deathmagnetic.pl
X-WR-CALDESC:Events for Death Magnetic
BEGIN:VTIMEZONE
TZID:Europe/Warsaw
BEGIN:DAYLIGHT
TZOFFSETFROM:+0100
TZOFFSETTO:+0200
TZNAME:CEST
DTSTART:20160327T010000
END:DAYLIGHT
BEGIN:STANDARD
TZOFFSETFROM:+0200
TZOFFSETTO:+0100
TZNAME:CET
DTSTART:20161030T010000
END:STANDARD
END:VTIMEZONE
BEGIN:VEVENT
DTSTART;TZID=Europe/Warsaw:20160513T190000
DTEND;TZID=Europe/Warsaw:20160513T235500
DTSTAMP:20260420T025928
CREATED:20160511T142605Z
LAST-MODIFIED:20160511T142730Z
UID:100563-1463166000-1463183700@deathmagnetic.pl
SUMMARY:In Your Face! #5: Nine Sixty Nine Bricks / Straight Hate / R.O.D / Rotengeist
DESCRIPTION:Na piątej\, ostatniej w tym sezonie edycji zagrają: \nNine Sixty Nine Bricks – Chełm – metal – dwa pokolenia muzyków w nowym projekcie. Skład młody ale umie dojebać. \nStraight Hate – Lublin – grind/death – rzeź. Ma być rzeź. \nR.O.D – Lublin – wkurwiony thrash. \nRotengeist – Przemyśl – thrash – techniczne thrashowe granie.  \nWejście 10 PLN.
URL:https://deathmagnetic.pl/wydarzenie/in-your-face-5-nine-sixty-nine-bricks-straight-hate-r-o-d-rotengeist/
LOCATION:Stereo Krogs\, Zielona 8\, Łódź
CATEGORIES:Koncerty,Polskie
ATTACH;FMTTYPE=image/jpeg:https://deathmagnetic.pl/wp-content/uploads/2016/05/12.jpg
ORGANIZER;CN="Support%20Them%20All":MAILTO:support.sta@o2.pl
GEO:51.7701507;19.4527912
X-APPLE-STRUCTURED-LOCATION;VALUE=URI;X-ADDRESS=Stereo Krogs Zielona 8 Łódź;X-APPLE-RADIUS=500;X-TITLE=Zielona 8:geo:19.4527912,51.7701507
END:VEVENT
END:VCALENDAR