BEGIN:VCALENDAR
VERSION:2.0
PRODID:-//Death Magnetic - ECPv5.10.1//NONSGML v1.0//EN
CALSCALE:GREGORIAN
METHOD:PUBLISH
X-WR-CALNAME:Death Magnetic
X-ORIGINAL-URL:https://deathmagnetic.pl
X-WR-CALDESC:Events for Death Magnetic
BEGIN:VTIMEZONE
TZID:Europe/Warsaw
BEGIN:DAYLIGHT
TZOFFSETFROM:+0100
TZOFFSETTO:+0200
TZNAME:CEST
DTSTART:20160327T010000
END:DAYLIGHT
BEGIN:STANDARD
TZOFFSETFROM:+0200
TZOFFSETTO:+0100
TZNAME:CET
DTSTART:20161030T010000
END:STANDARD
END:VTIMEZONE
BEGIN:VEVENT
DTSTART;TZID=Europe/Warsaw:20160227T190000
DTEND;TZID=Europe/Warsaw:20160227T230000
DTSTAMP:20260421T074028
CREATED:20160206T191557Z
LAST-MODIFIED:20160206T191557Z
UID:97036-1456599600-1456614000@deathmagnetic.pl
SUMMARY:In Your Face! #4: Despizer / Cornada / kazan
DESCRIPTION:Na czwartej edycji IYF zagrają: \nDespizer (Łódź/Pabianice) crust/d-beat. Prosto i z jebnięciem. \nCornada (Pabianice)- reprezentant nowszego podejścia do metalowego grania. Coś dla fanów Gojira. \nkazan (Bydgoszcz) – hardcore’owe uderzenie na dobicie. Jeńców nie zostawią. \nWejście: 10 PLN
URL:https://deathmagnetic.pl/wydarzenie/in-your-face-4-despizer-cornada-kazan/
LOCATION:Stereo Krogs\, Zielona 8\, Łódź
CATEGORIES:Koncerty,Polskie
ATTACH;FMTTYPE=image/png:https://deathmagnetic.pl/wp-content/uploads/2016/02/in-your-face.png
GEO:51.7701507;19.4527912
X-APPLE-STRUCTURED-LOCATION;VALUE=URI;X-ADDRESS=Stereo Krogs Zielona 8 Łódź;X-APPLE-RADIUS=500;X-TITLE=Zielona 8:geo:19.4527912,51.7701507
END:VEVENT
END:VCALENDAR