BEGIN:VCALENDAR
VERSION:2.0
PRODID:-//Death Magnetic - ECPv5.10.1//NONSGML v1.0//EN
CALSCALE:GREGORIAN
METHOD:PUBLISH
X-WR-CALNAME:Death Magnetic
X-ORIGINAL-URL:https://deathmagnetic.pl
X-WR-CALDESC:Events for Death Magnetic
BEGIN:VTIMEZONE
TZID:Europe/Warsaw
BEGIN:DAYLIGHT
TZOFFSETFROM:+0100
TZOFFSETTO:+0200
TZNAME:CEST
DTSTART:20170326T010000
END:DAYLIGHT
BEGIN:STANDARD
TZOFFSETFROM:+0200
TZOFFSETTO:+0100
TZNAME:CET
DTSTART:20171029T010000
END:STANDARD
END:VTIMEZONE
BEGIN:VEVENT
DTSTART;TZID=Europe/Warsaw:20171202T190000
DTEND;TZID=Europe/Warsaw:20171202T233000
DTSTAMP:20260420T191549
CREATED:20171124T112623Z
LAST-MODIFIED:20171124T112623Z
UID:152797-1512241200-1512257400@deathmagnetic.pl
SUMMARY:In Your Face! #10: Minetaur + Straight Hate + Terrordome
DESCRIPTION:Bilety: 20 zł \nOpis imprezy: \n2 lata imprez\, 3 kluby\, 27 zespołów i kilka piw później mamy to. Przedwczesny prezent świąteczny w postaci dziesiątej edycji obwoźno-stacjonarnego wydarzenia jakim jest In Your Face! W związku z tym\, że jesteśmy polakami przyzwyczajonymi do hucznego świętowania jubileuszy i w tym przypadku nie mogło być inaczej. Esencję tego co kochacie\, najbardziej skondensowany soniczny wpierdol w dziejach tej skromnej imprezy zapewniają:  \nMinetaur (Groove – Warszawa) – Groove łamiący karki podany z południowym luzem\, który pozwoli zapomnieć o jego bólu. Smacznie i pięknie podany\, i to mimo iż stoi za nim horda buców ze stolicy (cytat/łódzkibóldupy). \nStraight Hate (Grind – Lublin/Chełm) – In your face bez ekipy ze wschodu\, to jak dzień bez seksu analnego – do dupy. A odwiedza nas nie byle kto\, tylko twórcy zabójczej mieszanki grindcore i death metalu. Będzie szybko\, będzie dziko\, będzie intensywnie.  \nTerrordome (Thrash/Crossover – Kraków) – Crash course into mosh\, bitches! To już 12 lat jak ta krakowska załoga swoją muzyką kopie dupy\, robi fisting\, a potem opluwa i porzuca. Ale mają przy tym urok\, łobuzy kochają najbardziej.  \nNa miejscu kiepski mercz i dobry browar. Albo odwrotnie\, nie pamiętam. \nZapowiedź: \nhttps://www.facebook.com/SupportThemAllPL/videos/1957453821134122/ \n 
URL:https://deathmagnetic.pl/wydarzenie/in-your-face-10-minetaur-straight-hate-terrordome/
LOCATION:Magnetofon\, Zgierska 26A\, Łódź\, mazowieckie\, Polska
CATEGORIES:Koncerty,Polskie
ATTACH;FMTTYPE=image/jpeg:https://deathmagnetic.pl/wp-content/uploads/2017/11/In-your-Face-10.jpg
ORGANIZER;CN="Support%20Them%20All":MAILTO:support.sta@o2.pl
GEO:51.764732;19.441154
X-APPLE-STRUCTURED-LOCATION;VALUE=URI;X-ADDRESS=Magnetofon Zgierska 26A Łódź mazowieckie Polska;X-APPLE-RADIUS=500;X-TITLE=Zgierska 26A:geo:19.441154,51.764732
END:VEVENT
END:VCALENDAR