BEGIN:VCALENDAR
VERSION:2.0
PRODID:-//Death Magnetic - ECPv5.10.1//NONSGML v1.0//EN
CALSCALE:GREGORIAN
METHOD:PUBLISH
X-WR-CALNAME:Death Magnetic
X-ORIGINAL-URL:https://deathmagnetic.pl
X-WR-CALDESC:Events for Death Magnetic
BEGIN:VTIMEZONE
TZID:Europe/Warsaw
BEGIN:DAYLIGHT
TZOFFSETFROM:+0100
TZOFFSETTO:+0200
TZNAME:CEST
DTSTART:20160327T010000
END:DAYLIGHT
BEGIN:STANDARD
TZOFFSETFROM:+0200
TZOFFSETTO:+0100
TZNAME:CET
DTSTART:20161030T010000
END:STANDARD
END:VTIMEZONE
BEGIN:VEVENT
DTSTART;TZID=Europe/Warsaw:20161110T190000
DTEND;TZID=Europe/Warsaw:20161110T230000
DTSTAMP:20260421T092354
CREATED:20161030T154534Z
LAST-MODIFIED:20161030T154534Z
UID:107078-1478804400-1478818800@deathmagnetic.pl
SUMMARY:In Twilight's Embrace + Calm The Fire + Torn Shore
DESCRIPTION:Bilety: \nPrzedsprzedaż – 20 PLN\nW dniu koncertu – 30 PLN\n \nWejściówki do nabycia za pośrednictwem oficjalnego sklepiku Southern Discomfort.
URL:https://deathmagnetic.pl/wydarzenie/in-twilights-embrace-calm-the-fire-torn-shore/
LOCATION:Kawiarnia Naukowa\, Dajwór 16\, Kraków\, Polska
CATEGORIES:Koncerty,patronaty,Polskie
ATTACH;FMTTYPE=image/jpeg:https://deathmagnetic.pl/wp-content/uploads/2016/10/plakat.jpg
ORGANIZER;CN="Southern%20Discomfort":MAILTO:sdcracow@gmail.com
GEO:50.0509115;19.949766
X-APPLE-STRUCTURED-LOCATION;VALUE=URI;X-ADDRESS=Kawiarnia Naukowa Dajwór 16 Kraków Polska;X-APPLE-RADIUS=500;X-TITLE=Dajwór 16:geo:19.949766,50.0509115
END:VEVENT
END:VCALENDAR