BEGIN:VCALENDAR
VERSION:2.0
PRODID:-//Death Magnetic - ECPv5.10.1//NONSGML v1.0//EN
CALSCALE:GREGORIAN
METHOD:PUBLISH
X-WR-CALNAME:Death Magnetic
X-ORIGINAL-URL:https://deathmagnetic.pl
X-WR-CALDESC:Events for Death Magnetic
BEGIN:VTIMEZONE
TZID:Europe/Warsaw
BEGIN:DAYLIGHT
TZOFFSETFROM:+0100
TZOFFSETTO:+0200
TZNAME:CEST
DTSTART:20150329T010000
END:DAYLIGHT
BEGIN:STANDARD
TZOFFSETFROM:+0200
TZOFFSETTO:+0100
TZNAME:CET
DTSTART:20151025T010000
END:STANDARD
END:VTIMEZONE
BEGIN:VEVENT
DTSTART;TZID=Europe/Warsaw:20150527T190000
DTEND;TZID=Europe/Warsaw:20150527T230000
DTSTAMP:20260421T092250
CREATED:20150505T172410Z
LAST-MODIFIED:20150507T100008Z
UID:82824-1432753200-1432767600@deathmagnetic.pl
SUMMARY:In Other Climes + RiseuP + Earth Collapse
DESCRIPTION:Cena biletów: 8zł \nBilety do nabycia w Klubie Muzycznym Szuflada.
URL:https://deathmagnetic.pl/wydarzenie/in-other-climes-riseup-earth-collapse/
LOCATION:Klub Muzyczny Szuflada\, os. Dąbrówki 1b\, Katowice\, 44-300\, Polska
CATEGORIES:Koncerty,zagraniczne
ATTACH;FMTTYPE=image/jpeg:https://deathmagnetic.pl/wp-content/uploads/2015/05/In_other_climes_koncert.jpg
GEO:50.2617318;19.0094904
X-APPLE-STRUCTURED-LOCATION;VALUE=URI;X-ADDRESS=Klub Muzyczny Szuflada os. Dąbrówki 1b Katowice 44-300 Polska;X-APPLE-RADIUS=500;X-TITLE=os. Dąbrówki 1b:geo:19.0094904,50.2617318
END:VEVENT
END:VCALENDAR