BEGIN:VCALENDAR
VERSION:2.0
PRODID:-//Death Magnetic - ECPv5.10.1//NONSGML v1.0//EN
CALSCALE:GREGORIAN
METHOD:PUBLISH
X-WR-CALNAME:Death Magnetic
X-ORIGINAL-URL:https://deathmagnetic.pl
X-WR-CALDESC:Events for Death Magnetic
BEGIN:VTIMEZONE
TZID:Europe/Warsaw
BEGIN:DAYLIGHT
TZOFFSETFROM:+0100
TZOFFSETTO:+0200
TZNAME:CEST
DTSTART:20170326T010000
END:DAYLIGHT
BEGIN:STANDARD
TZOFFSETFROM:+0200
TZOFFSETTO:+0100
TZNAME:CET
DTSTART:20171029T010000
END:STANDARD
END:VTIMEZONE
BEGIN:VEVENT
DTSTART;TZID=Europe/Warsaw:20170411T190000
DTEND;TZID=Europe/Warsaw:20170411T220000
DTSTAMP:20260420T100817
CREATED:20170207T222139Z
LAST-MODIFIED:20170215T230139Z
UID:111438-1491937200-1491948000@deathmagnetic.pl
SUMMARY:IN HEARTS WAKE
DESCRIPTION:Bilety:\n39 zł – http://winiarybookings.8merch.com/in_hearts_wake_11_04_pod_minog_pozna-id11369\n44 zł – Biletomat.pl – bilety online\, Going. Rock Long Luck\, Masłowski CD (ul. Taczaka 21)\n49 zł – w dniu koncertu
URL:https://deathmagnetic.pl/wydarzenie/in-hearts-wake/
LOCATION:Klub Pod Minogą\, Nowowiejskiego 8\, Poznań\, Polska
CATEGORIES:Koncerty,zagraniczne
ATTACH;FMTTYPE=image/jpeg:https://deathmagnetic.pl/wp-content/uploads/2017/02/PlakatPozna.jpg
ORGANIZER;CN="WiniaryBookings":MAILTO:winiarybooking@gmail.com
GEO:52.4093124;16.9270295
X-APPLE-STRUCTURED-LOCATION;VALUE=URI;X-ADDRESS=Klub Pod Minogą Nowowiejskiego 8 Poznań Polska;X-APPLE-RADIUS=500;X-TITLE=Nowowiejskiego 8:geo:16.9270295,52.4093124
END:VEVENT
END:VCALENDAR