BEGIN:VCALENDAR
VERSION:2.0
PRODID:-//Death Magnetic - ECPv5.10.1//NONSGML v1.0//EN
CALSCALE:GREGORIAN
METHOD:PUBLISH
X-WR-CALNAME:Death Magnetic
X-ORIGINAL-URL:https://deathmagnetic.pl
X-WR-CALDESC:Events for Death Magnetic
BEGIN:VTIMEZONE
TZID:Europe/Warsaw
BEGIN:DAYLIGHT
TZOFFSETFROM:+0100
TZOFFSETTO:+0200
TZNAME:CEST
DTSTART:20150329T010000
END:DAYLIGHT
BEGIN:STANDARD
TZOFFSETFROM:+0200
TZOFFSETTO:+0100
TZNAME:CET
DTSTART:20151025T010000
END:STANDARD
END:VTIMEZONE
BEGIN:VEVENT
DTSTART;TZID=Europe/Warsaw:20150530T190000
DTEND;TZID=Europe/Warsaw:20150530T230000
DTSTAMP:20260421T054423
CREATED:20150506T185137Z
LAST-MODIFIED:20150506T185137Z
UID:83054-1433012400-1433026800@deathmagnetic.pl
SUMMARY:In Hearts Wake + Burn The Witch + Final Sacrifice
DESCRIPTION:Ceny biletów: \n35 zł – przedsprzedaż\n45 zł – w dniu koncertu \nBilety kolekcjonerskie dostępne TUTAJ
URL:https://deathmagnetic.pl/wydarzenie/in-hearts-wake-burn-the-witch-final-sacrifice/
LOCATION:Klub Pod Minogą\, Nowowiejskiego 8\, Poznań\, Polska
CATEGORIES:Koncerty,zagraniczne
ATTACH;FMTTYPE=image/jpeg:https://deathmagnetic.pl/wp-content/uploads/2015/05/In-Hearts-wake.jpg
ORGANIZER;CN="WiniaryBookings":MAILTO:winiarybooking@gmail.com
GEO:52.4093124;16.9270295
X-APPLE-STRUCTURED-LOCATION;VALUE=URI;X-ADDRESS=Klub Pod Minogą Nowowiejskiego 8 Poznań Polska;X-APPLE-RADIUS=500;X-TITLE=Nowowiejskiego 8:geo:16.9270295,52.4093124
END:VEVENT
END:VCALENDAR