BEGIN:VCALENDAR
VERSION:2.0
PRODID:-//Death Magnetic - ECPv5.10.1//NONSGML v1.0//EN
CALSCALE:GREGORIAN
METHOD:PUBLISH
X-WR-CALNAME:Death Magnetic
X-ORIGINAL-URL:https://deathmagnetic.pl
X-WR-CALDESC:Events for Death Magnetic
BEGIN:VTIMEZONE
TZID:Europe/Warsaw
BEGIN:DAYLIGHT
TZOFFSETFROM:+0100
TZOFFSETTO:+0200
TZNAME:CEST
DTSTART:20170326T010000
END:DAYLIGHT
BEGIN:STANDARD
TZOFFSETFROM:+0200
TZOFFSETTO:+0100
TZNAME:CET
DTSTART:20171029T010000
END:STANDARD
END:VTIMEZONE
BEGIN:VEVENT
DTSTART;TZID=Europe/Warsaw:20171222T190000
DTEND;TZID=Europe/Warsaw:20171222T233000
DTSTAMP:20260421T092221
CREATED:20171212T195039Z
LAST-MODIFIED:20171212T195039Z
UID:153754-1513969200-1513985400@deathmagnetic.pl
SUMMARY:In Blast We Trust #6: Unborn Suffer + Final Six + Eteritus
DESCRIPTION:Bilety w cenie 15 zł\nStart imprezy: 19:00\n \nKolejna\, szósta już i zarazem świąteczna odsłona cyklicznej imprezy IN BLAST WE TRUST organizowanej przez Unborn Suffer. Zapraszamy na świąteczne tańce i hulańce do dzwięków death/grind. \nZagrają: \nUNBORN SUFFER: Zespół powstał w listopadzie 2001 roku. We wrześniu 2003 zespół zarejestrował swój debiutancki album ‚Procreated Suffering’\, który został wydany własnym sumptem w kwietniu 2004. Drugi album „Is This What We’ve Created?” został wydany w listopadzie 2006 roku przez rosyjska wytwórnię SOULFLESH COLLECTOR. Po nagraniu trzeciej płyty „Desecrate/Retaliate/Obliterate” pod koniec czerwca 2007 zespół zawiesił działalność na 5 miesięcy\, następnie przeszedł spore przetasowania personalne. „Desecrate/Retaliate/Obliterate” zostało wydane 22 lutego 2008 ponownie przez SOULFLESH COLLECTOR. W 2009 zespoł wypuścił Epkę „I Am Your Nemesis” I rozpoczął stałe koncertowanie. Czwarty album „Unborn Suffer” został wydany w 2012 przez japońską GHASTLY MUSIC. Po 2 latach promocji płyty ( m.in. u boku SUFFOCATION) zespół wydał swój pierwszy oficjalny album koncertowy „Live Suffering”. Pod koniec 2015 Unborn Suffer wypuścił składankę „Revisited Suffering” poprzez polskiego wydawcę INFERNUM MEDIA\, oraz zarejestrował swój piąty album „Nihilist”\, który ukazał się 1 lutego 2016 poprzez SELFMADEGOD records. \n \nFinal Six: Grindcorowy zespół z Poznania\, stworzony w 2012 z inicjatywy Jarka i Krzysztofa\, był w swojej pierwotnej postaci oparty na pomyśle tworzenia muzyki na bas\, perkusje i wokale\, ale bez udziału gitar. Skład uzupełnili Kasia (growl) i Kacper (pig squeal). W 2013 zespół wydał własnym nakładem płytę promo\, a w 2014 ukończył nagrywanie swojej pierwszej pełnej płyty „Religious Psychosis”. W 2015 „Religious Psychosis” została wydana przez Chińską wytwórnię Thanatology Productions. Po ukończeniu nagrań ze składu odeszła Kasia\, a po serii koncertów\, pod koniec roku 2015\, z zespołem rozstał się także Kacper. Po kilku kolejnych zmianach\, Jarek zabrał się za gitarę i wokal\, a na bas dołączył Wojtek. Muzyka zmieniła kierunek z rubasznych świńskich\nrytmów w stronę brutalniejszego grania. \nETERITUS: Zespół Eteritus z Torunia powstał w lutym 2013 roku. Wtedy to spotkali się Zimny (gitara) i Nitro (perkusja). Wkrótce odbyły się pierwsze próby. W marcu 2013 do zespołu dołączył wokalista Liam Tailor i rozpoczął się proces tworzenia materiału. W grudniu 2013 składające się z 4 utworów mcd „Tales of Death” zostaje zmiksowane. W lutym 2014 materiał został wydany na cd nakładem W.M. „Psycho”. W tym samym czasie do zespołu dołączył basista Greg i Eteritus gra już w pełnym składzie. 26.06.2016 ukazał się debiutancki album „Following the Ancient Path”\, który został wydany przez Godz ov War Productions. Aktualnie szukamy wydawcy naszej drugiej pełnej płyty. \n 
URL:https://deathmagnetic.pl/wydarzenie/in-blast-we-trust-6-unborn-suffer-final-six-eteritus/
LOCATION:Czarny Spichrz\, Piwna 4\, Włocławek
ATTACH;FMTTYPE=image/jpeg:https://deathmagnetic.pl/wp-content/uploads/2017/12/In-Blast-We-Trust-6.jpg
GEO:52.662672;19.064528
X-APPLE-STRUCTURED-LOCATION;VALUE=URI;X-ADDRESS=Czarny Spichrz Piwna 4 Włocławek;X-APPLE-RADIUS=500;X-TITLE=Piwna 4:geo:19.064528,52.662672
END:VEVENT
END:VCALENDAR