BEGIN:VCALENDAR
VERSION:2.0
PRODID:-//Death Magnetic - ECPv5.10.1//NONSGML v1.0//EN
CALSCALE:GREGORIAN
METHOD:PUBLISH
X-WR-CALNAME:Death Magnetic
X-ORIGINAL-URL:https://deathmagnetic.pl
X-WR-CALDESC:Events for Death Magnetic
BEGIN:VTIMEZONE
TZID:Europe/Warsaw
BEGIN:DAYLIGHT
TZOFFSETFROM:+0100
TZOFFSETTO:+0200
TZNAME:CEST
DTSTART:20150329T010000
END:DAYLIGHT
BEGIN:STANDARD
TZOFFSETFROM:+0200
TZOFFSETTO:+0100
TZNAME:CET
DTSTART:20151025T010000
END:STANDARD
END:VTIMEZONE
BEGIN:VEVENT
DTSTART;TZID=Europe/Warsaw:20150609T140000
DTEND;TZID=Europe/Warsaw:20150609T230000
DTSTAMP:20260421T080938
CREATED:20150219T173825Z
LAST-MODIFIED:20150311T153220Z
UID:73162-1433858400-1433890800@deathmagnetic.pl
SUMMARY:Impact Festival 2015
DESCRIPTION:Zagrają:\n\nScena Ticketmaster:\n14.30-15.00 zwycięzca Antyfestu Antyradia\n15.30-16.15 ??\n16.45-17.45 Hollywood Undead \nScena główna:\n19.45-20.45 Gojira\n21.30-23.30 Slipknot \nScena Ticketmaster:\n23.30-00.30 Godsmack\n00.45-02.00 DJ Kebs \n\n\nCeny biletów (przedsprzedaż / w dniu koncertu):\n– Trybuny 1: 229 zł\n\n– Trybuny 2: 179 zł\n\n– Golden Circle Early Entrance: 359 zł\n\n– Golden Circle: 269 zł\n– Płyta: 199 zł\n\nBilety dostępne na: \nLiveNation\n\nBramki festiwalu: 14:00\nBramki Atlas Areny: 18:00
URL:https://deathmagnetic.pl/wydarzenie/impact-festival-2015/
LOCATION:Atlas Arena\, al. Bandurskiego 7\, Łódź\, Polska
CATEGORIES:Festiwale,zagraniczne
ATTACH;FMTTYPE=image/jpeg:https://deathmagnetic.pl/wp-content/uploads/2015/02/Impact-Festival-2015.jpg
ORGANIZER;CN="Live%20Nation":MAILTO:info@livenation.pl
GEO:51.7570376;19.4251408
X-APPLE-STRUCTURED-LOCATION;VALUE=URI;X-ADDRESS=Atlas Arena al. Bandurskiego 7 Łódź Polska;X-APPLE-RADIUS=500;X-TITLE=al. Bandurskiego 7:geo:19.4251408,51.7570376
END:VEVENT
END:VCALENDAR