BEGIN:VCALENDAR
VERSION:2.0
PRODID:-//Death Magnetic - ECPv5.10.1//NONSGML v1.0//EN
CALSCALE:GREGORIAN
METHOD:PUBLISH
X-WR-CALNAME:Death Magnetic
X-ORIGINAL-URL:https://deathmagnetic.pl
X-WR-CALDESC:Events for Death Magnetic
BEGIN:VTIMEZONE
TZID:Europe/Warsaw
BEGIN:DAYLIGHT
TZOFFSETFROM:+0100
TZOFFSETTO:+0200
TZNAME:CEST
DTSTART:20170326T010000
END:DAYLIGHT
BEGIN:STANDARD
TZOFFSETFROM:+0200
TZOFFSETTO:+0100
TZNAME:CET
DTSTART:20171029T010000
END:STANDARD
END:VTIMEZONE
BEGIN:VEVENT
DTSTART;TZID=Europe/Warsaw:20170928T190000
DTEND;TZID=Europe/Warsaw:20170928T230000
DTSTAMP:20260420T085337
CREATED:20170705T092906Z
LAST-MODIFIED:20170705T092906Z
UID:120166-1506625200-1506639600@deathmagnetic.pl
SUMMARY:Immolation + Azarath + Melechesh + In Twilight's Embrace + Necrowretch
DESCRIPTION:bilety: 75zł (przedsprzedaż)/85zł (w dniu koncertu)
URL:https://deathmagnetic.pl/wydarzenie/immolation-azarath-melechesh-in-twilights-embrace-necrowretch-3/
LOCATION:Warszawa\, mazowieckie\, Polska
CATEGORIES:Koncerty,zagraniczne
ATTACH;FMTTYPE=image/png:https://deathmagnetic.pl/wp-content/uploads/2017/07/immoazarath.png
ORGANIZER;CN="Left%20Hand%20Sounds":MAILTO:info@lefthandsounds.org
END:VEVENT
END:VCALENDAR