BEGIN:VCALENDAR
VERSION:2.0
PRODID:-//Death Magnetic - ECPv5.10.1//NONSGML v1.0//EN
CALSCALE:GREGORIAN
METHOD:PUBLISH
X-WR-CALNAME:Death Magnetic
X-ORIGINAL-URL:https://deathmagnetic.pl
X-WR-CALDESC:Events for Death Magnetic
BEGIN:VTIMEZONE
TZID:Europe/Warsaw
BEGIN:DAYLIGHT
TZOFFSETFROM:+0100
TZOFFSETTO:+0200
TZNAME:CEST
DTSTART:20160327T010000
END:DAYLIGHT
BEGIN:STANDARD
TZOFFSETFROM:+0200
TZOFFSETTO:+0100
TZNAME:CET
DTSTART:20161030T010000
END:STANDARD
END:VTIMEZONE
BEGIN:VEVENT
DTSTART;TZID=Europe/Warsaw:20160202T190000
DTEND;TZID=Europe/Warsaw:20160202T230000
DTSTAMP:20260421T135302
CREATED:20150923T112136Z
LAST-MODIFIED:20150923T112136Z
UID:92284-1454439600-1454454000@deathmagnetic.pl
SUMMARY:Imagine Dragons
DESCRIPTION:Ceny biletów:\nod 179zł do 299zł \nDostępne na LiveNation
URL:https://deathmagnetic.pl/wydarzenie/imagine-dragons/
LOCATION:Atlas Arena\, al. Bandurskiego 7\, Łódź\, Polska
CATEGORIES:Koncerty,zagraniczne
ATTACH;FMTTYPE=image/png:https://deathmagnetic.pl/wp-content/uploads/2015/09/Imagine-Dragons.png
ORGANIZER;CN="Live%20Nation":MAILTO:info@livenation.pl
GEO:51.7570376;19.4251408
X-APPLE-STRUCTURED-LOCATION;VALUE=URI;X-ADDRESS=Atlas Arena al. Bandurskiego 7 Łódź Polska;X-APPLE-RADIUS=500;X-TITLE=al. Bandurskiego 7:geo:19.4251408,51.7570376
END:VEVENT
END:VCALENDAR