BEGIN:VCALENDAR
VERSION:2.0
PRODID:-//Death Magnetic - ECPv5.10.1//NONSGML v1.0//EN
CALSCALE:GREGORIAN
METHOD:PUBLISH
X-WR-CALNAME:Death Magnetic
X-ORIGINAL-URL:https://deathmagnetic.pl
X-WR-CALDESC:Events for Death Magnetic
BEGIN:VTIMEZONE
TZID:Europe/Warsaw
BEGIN:DAYLIGHT
TZOFFSETFROM:+0100
TZOFFSETTO:+0200
TZNAME:CEST
DTSTART:20170326T010000
END:DAYLIGHT
BEGIN:STANDARD
TZOFFSETFROM:+0200
TZOFFSETTO:+0100
TZNAME:CET
DTSTART:20171029T010000
END:STANDARD
END:VTIMEZONE
BEGIN:VEVENT
DTSTART;TZID=Europe/Warsaw:20171124T200000
DTEND;TZID=Europe/Warsaw:20171124T230000
DTSTAMP:20260420T222018
CREATED:20171109T123646Z
LAST-MODIFIED:20171109T123646Z
UID:152336-1511553600-1511564400@deathmagnetic.pl
SUMMARY:Illusion + Alpha Dog
DESCRIPTION:Bilety: \n55 zł – kolekcjonerskie (http://pwevents.pl/bilety/illusion-24.11-proxima-warszawa-proxima-warszawa/484/79)\n60 zł – Biletomat\, Bilety24\, Ebilet\, Eventim\, Tickepro\, Proxima\n65 zł – w dniu koncertu
URL:https://deathmagnetic.pl/wydarzenie/illusion-alpha-dog-4/
LOCATION:Proxima\, ul. Żwirki i Wigury 99\, Warszawa\, Polska
CATEGORIES:Koncerty,Polskie
ATTACH;FMTTYPE=image/jpeg:https://deathmagnetic.pl/wp-content/uploads/2017/11/Illusion-25lecie.jpg
ORGANIZER;CN="P.W.%20Events":MAILTO:piotr@pwevents.pl
GEO:52.212567;20.987187
X-APPLE-STRUCTURED-LOCATION;VALUE=URI;X-ADDRESS=Proxima ul. Żwirki i Wigury 99 Warszawa Polska;X-APPLE-RADIUS=500;X-TITLE=ul. Żwirki i Wigury 99:geo:20.987187,52.212567
END:VEVENT
END:VCALENDAR