BEGIN:VCALENDAR
VERSION:2.0
PRODID:-//Death Magnetic - ECPv5.10.1//NONSGML v1.0//EN
CALSCALE:GREGORIAN
METHOD:PUBLISH
X-WR-CALNAME:Death Magnetic
X-ORIGINAL-URL:https://deathmagnetic.pl
X-WR-CALDESC:Events for Death Magnetic
BEGIN:VTIMEZONE
TZID:Europe/Warsaw
BEGIN:DAYLIGHT
TZOFFSETFROM:+0100
TZOFFSETTO:+0200
TZNAME:CEST
DTSTART:20170326T010000
END:DAYLIGHT
BEGIN:STANDARD
TZOFFSETFROM:+0200
TZOFFSETTO:+0100
TZNAME:CET
DTSTART:20171029T010000
END:STANDARD
END:VTIMEZONE
BEGIN:VEVENT
DTSTART;TZID=Europe/Warsaw:20171118T200000
DTEND;TZID=Europe/Warsaw:20171118T230000
DTSTAMP:20260421T091940
CREATED:20171109T123149Z
LAST-MODIFIED:20171109T123149Z
UID:152334-1511035200-1511046000@deathmagnetic.pl
SUMMARY:Illusion + Alpha Dog
DESCRIPTION:Bilety: \n49 zł – kolekcjonerskie (http://pwevents.pl/bilety/illusion-18.11-slowianin-szczecin-slowianinszczecin/482/79)\n54 zł – Biletomat\, Bilety24\, Ebilet\, Eventim\, Tickepro\, Bilety.fm\, sklep muzyczny Bunkier\n59 zł – w dniu koncertu
URL:https://deathmagnetic.pl/wydarzenie/illusion-alpha-dog-2/
LOCATION:Dom Kultury Słowianin\, ul. Korzeniowskiego 2\, Szczecin\, Polska
CATEGORIES:Koncerty,Polskie
ATTACH;FMTTYPE=image/jpeg:https://deathmagnetic.pl/wp-content/uploads/2017/11/Illusion-25lecie.jpg
ORGANIZER;CN="P.W.%20Events":MAILTO:piotr@pwevents.pl
GEO:53.4203514;14.5512092
X-APPLE-STRUCTURED-LOCATION;VALUE=URI;X-ADDRESS=Dom Kultury Słowianin ul. Korzeniowskiego 2 Szczecin Polska;X-APPLE-RADIUS=500;X-TITLE=ul. Korzeniowskiego 2:geo:14.5512092,53.4203514
END:VEVENT
END:VCALENDAR