BEGIN:VCALENDAR
VERSION:2.0
PRODID:-//Death Magnetic - ECPv5.10.1//NONSGML v1.0//EN
CALSCALE:GREGORIAN
METHOD:PUBLISH
X-WR-CALNAME:Death Magnetic
X-ORIGINAL-URL:https://deathmagnetic.pl
X-WR-CALDESC:Events for Death Magnetic
BEGIN:VTIMEZONE
TZID:Europe/Warsaw
BEGIN:DAYLIGHT
TZOFFSETFROM:+0100
TZOFFSETTO:+0200
TZNAME:CEST
DTSTART:20180325T010000
END:DAYLIGHT
BEGIN:STANDARD
TZOFFSETFROM:+0200
TZOFFSETTO:+0100
TZNAME:CET
DTSTART:20181028T010000
END:STANDARD
END:VTIMEZONE
BEGIN:VEVENT
DTSTART;TZID=Europe/Warsaw:20181123T183000
DTEND;TZID=Europe/Warsaw:20181123T220000
DTSTAMP:20260421T034232
CREATED:20181015T142630Z
LAST-MODIFIED:20181015T142630Z
UID:159269-1542997800-1543010400@deathmagnetic.pl
SUMMARY:Illusion
DESCRIPTION:Data: 2018-11-23 (piątek)\nMiasto: Poznań\nMiejsce: Tama\nAdres: ul. Niezłomnych 2\nGodziny: 18:30 – wejście ; 19:15 – start koncertu\nCeny biletów: 66 zł (przedsprzedaż) / 76 zł (w dniu koncertu)\nMiejsca sprzedaży: www.go-ahead.pl\, www.biletomat.pl (bilety kolekcjonerskie)\, www.ebilet.pl\, www.ticketmaster.pl\, www.ticketclub.pl(bilety kolekcjonerskie) oraz sklepy sieci Empik\, Media Markt\, Saturn
URL:https://deathmagnetic.pl/wydarzenie/illusion-2/
LOCATION:Tama\, Niezłomnych 2\, Poznań\, wielkopolskie\, Polska
CATEGORIES:Koncerty,Polskie
ATTACH;FMTTYPE=image/jpeg:https://deathmagnetic.pl/wp-content/uploads/2018/10/illusion.jpg
ORGANIZER;CN="Go%20Ahead":MAILTO:agencja@go-ahead.pl
END:VEVENT
END:VCALENDAR