BEGIN:VCALENDAR
VERSION:2.0
PRODID:-//Death Magnetic - ECPv5.10.1//NONSGML v1.0//EN
CALSCALE:GREGORIAN
METHOD:PUBLISH
X-WR-CALNAME:Death Magnetic
X-ORIGINAL-URL:https://deathmagnetic.pl
X-WR-CALDESC:Events for Death Magnetic
BEGIN:VTIMEZONE
TZID:Europe/Warsaw
BEGIN:DAYLIGHT
TZOFFSETFROM:+0100
TZOFFSETTO:+0200
TZNAME:CEST
DTSTART:20180325T010000
END:DAYLIGHT
BEGIN:STANDARD
TZOFFSETFROM:+0200
TZOFFSETTO:+0100
TZNAME:CET
DTSTART:20181028T010000
END:STANDARD
END:VTIMEZONE
BEGIN:VEVENT
DTSTART;TZID=Europe/Warsaw:20181114T183000
DTEND;TZID=Europe/Warsaw:20181114T230000
DTSTAMP:20260421T104828
CREATED:20181112T120757Z
LAST-MODIFIED:20181112T120757Z
UID:159972-1542220200-1542236400@deathmagnetic.pl
SUMMARY:Ihsahn + Ne Obliviscaris + Astrosaur
DESCRIPTION:Bilety:\n85 PLN – przedsprzedaż  (Eventim\, Knock Out Productions)\n100 PLN – w dniu koncertu  \nIhsahn (Norwegia)\, awangardowy/progresywny metal: \nVegard Sverre Tveitan\, norweski kompozytor i multiinstrumentalista\, którego świat metalu zna od ponad 25 lat pod ksywką Ihsahn\, w październiku 2018 roku skończy zaledwie 43 lata\, a wydaje się\, że obecny jest w naszej\, fanów pamięci od niepamiętnych czasów. Wszystko przez to\, że źle znosi nudę i jest tytanem pracy oraz wulkanem pomysłów. To Ihsahn w dużym stopniu odpowiada za oderwanie black metalu od sztampy jako główna kreatywna siła legendarnego Emperor. Wraz z małżonką przez kilka lat tworzył w ramach ciekawego tworu pod nazwą Peccatum. Swój wielki talent ujawnił też\, chociażby w Thou Shalt Suffer. \nNe Obliviscaris (Australia)\, progresywny metal: \nIch nazwa oznacza „nie zapomnij” i faktycznie ciężko australijską formację wyrzucić z głowy\, jeśli już posmakuje się jej muzyki albo zobaczy ją podczas koncertu. Ne Obliviscaris to starannie zbudowane i rozbudowane kompozycje. „Progresywny” w ich przypadku oznacza czerpiący swobodnie także z avant jazzu\, flamenco\, rocka progresywnego i kilku innych gatunków. Dziwić to nie powinno\, ponieważ niektórzy z panów odebrali staranną edukację muzyczną w konserwatorium. Zadebiutowali płytą „Portal of I” w 2012 roku. W Polsce zjawią się promować wydaną w roku 2017 płytę „Urn”. \nAstrosaur (Norwegia)\, instrumentalny rock: \nWieczory otworzą rodacy Ihsahna z grupy Astrosaur. Jest ich trzech i jak mówią\, grają instrumentalnego rocka. Na koncie mają jedną płytę „Fade In // Space Out”. Choć deklarują\, że grają rocka\, w ich muzyce z łatwością można wyłapać również ślady bluesa\, jazzu\, jak i mocniejszego uderzenia. Fani The Ocean albo Mastodon też znajdą tu coś dla siebie. Muzyka Astrosaura to pewnością propozycja dla osób o bardzo szerokich horyzontach\, których cieszą kompozycje z wtrętami z innych muzycznych stylów.
URL:https://deathmagnetic.pl/wydarzenie/ihsahn-ne-obliviscaris-astrosaur-1/
LOCATION:Progresja\, Fort Wola 22\, Warszawa\, Polska
CATEGORIES:Koncerty,patronaty,Polskie
ATTACH;FMTTYPE=image/jpeg:https://deathmagnetic.pl/wp-content/uploads/2018/11/ihsahn.jpg
ORGANIZER;CN="KnockOut%20Productions":MAILTO:info@knockoutprod.net
GEO:52.224827;20.9287
X-APPLE-STRUCTURED-LOCATION;VALUE=URI;X-ADDRESS=Progresja Fort Wola 22 Warszawa Polska;X-APPLE-RADIUS=500;X-TITLE=Fort Wola 22:geo:20.9287,52.224827
END:VEVENT
END:VCALENDAR