BEGIN:VCALENDAR
VERSION:2.0
PRODID:-//Death Magnetic - ECPv5.10.1//NONSGML v1.0//EN
CALSCALE:GREGORIAN
METHOD:PUBLISH
X-WR-CALNAME:Death Magnetic
X-ORIGINAL-URL:https://deathmagnetic.pl
X-WR-CALDESC:Events for Death Magnetic
BEGIN:VTIMEZONE
TZID:Europe/Warsaw
BEGIN:DAYLIGHT
TZOFFSETFROM:+0100
TZOFFSETTO:+0200
TZNAME:CEST
DTSTART:20170326T010000
END:DAYLIGHT
BEGIN:STANDARD
TZOFFSETFROM:+0200
TZOFFSETTO:+0100
TZNAME:CET
DTSTART:20171029T010000
END:STANDARD
END:VTIMEZONE
BEGIN:VEVENT
DTSTART;TZID=Europe/Warsaw:20170529T180000
DTEND;TZID=Europe/Warsaw:20170529T230000
DTSTAMP:20260420T104018
CREATED:20170515T183559Z
LAST-MODIFIED:20170515T183559Z
UID:118043-1496080800-1496098800@deathmagnetic.pl
SUMMARY:I Am Morbid + Necrophagia\, Helsott\, Offence
DESCRIPTION:Bilety:\n45 zł w przedsprzedaży i 55 zł w dniu koncertu \nDrzwi: 18:00\nStart: 19:00 \nBilety na koncerty dostępne na stronie Rudeboy Club oraz w stałych punktach sprzedaży klubu.
URL:https://deathmagnetic.pl/wydarzenie/i-am-morbid-necrophagia-helsott-offence/
LOCATION:Rudeboy Club\, 1 maja 20\, Bielsko-Biała\, 43-300\, Polska
CATEGORIES:Koncerty,zagraniczne
ATTACH;FMTTYPE=image/jpeg:https://deathmagnetic.pl/wp-content/uploads/2017/05/I-am-morbid.jpg
GEO:49.817453;19.0456459
X-APPLE-STRUCTURED-LOCATION;VALUE=URI;X-ADDRESS=Rudeboy Club 1 maja 20 Bielsko-Biała 43-300 Polska;X-APPLE-RADIUS=500;X-TITLE=1 maja 20:geo:19.0456459,49.817453
END:VEVENT
END:VCALENDAR