BEGIN:VCALENDAR
VERSION:2.0
PRODID:-//Death Magnetic - ECPv5.10.1//NONSGML v1.0//EN
CALSCALE:GREGORIAN
METHOD:PUBLISH
X-WR-CALNAME:Death Magnetic
X-ORIGINAL-URL:https://deathmagnetic.pl
X-WR-CALDESC:Events for Death Magnetic
BEGIN:VTIMEZONE
TZID:Europe/Warsaw
BEGIN:DAYLIGHT
TZOFFSETFROM:+0100
TZOFFSETTO:+0200
TZNAME:CEST
DTSTART:20150329T010000
END:DAYLIGHT
BEGIN:STANDARD
TZOFFSETFROM:+0200
TZOFFSETTO:+0100
TZNAME:CET
DTSTART:20151025T010000
END:STANDARD
END:VTIMEZONE
BEGIN:VEVENT
DTSTART;TZID=Europe/Warsaw:20150327T180000
DTEND;TZID=Europe/Warsaw:20150327T230000
DTSTAMP:20260421T053031
CREATED:20150301T183138Z
LAST-MODIFIED:20150305T153826Z
UID:74697-1427479200-1427497200@deathmagnetic.pl
SUMMARY:Hunter + Reload + Nutshell + KaAtaKilla
DESCRIPTION:Ceny biletów: \n37 zł – przedsprzedaż \n45 zł – w dniu koncertu \nBilety dostępne: \nKOLDECURE ” Pub Łódź Kaliska ” ul. Piotrkowska 102a\nw godz 15 00 – 19 00 tel. 602214751 \, \nKlub Luka ul. Zgierska 26A (wyłącznie w weekendy) \n Start: 18:00
URL:https://deathmagnetic.pl/wydarzenie/hunter/
LOCATION:Luka\, Zgierska 26a\, Łódź
CATEGORIES:Koncerty,Polskie
ATTACH;FMTTYPE=image/jpeg:https://deathmagnetic.pl/wp-content/uploads/2015/03/Hunter.jpg
GEO:51.7835227;19.4522733
X-APPLE-STRUCTURED-LOCATION;VALUE=URI;X-ADDRESS=Luka Zgierska 26a Łódź;X-APPLE-RADIUS=500;X-TITLE=Zgierska 26a:geo:19.4522733,51.7835227
END:VEVENT
END:VCALENDAR