BEGIN:VCALENDAR
VERSION:2.0
PRODID:-//Death Magnetic - ECPv5.10.1//NONSGML v1.0//EN
CALSCALE:GREGORIAN
METHOD:PUBLISH
X-WR-CALNAME:Death Magnetic
X-ORIGINAL-URL:https://deathmagnetic.pl
X-WR-CALDESC:Events for Death Magnetic
BEGIN:VTIMEZONE
TZID:Europe/Warsaw
BEGIN:DAYLIGHT
TZOFFSETFROM:+0100
TZOFFSETTO:+0200
TZNAME:CEST
DTSTART:20150329T010000
END:DAYLIGHT
BEGIN:STANDARD
TZOFFSETFROM:+0200
TZOFFSETTO:+0100
TZNAME:CET
DTSTART:20151025T010000
END:STANDARD
END:VTIMEZONE
BEGIN:VEVENT
DTSTART;TZID=Europe/Warsaw:20150307T200000
DTEND;TZID=Europe/Warsaw:20150307T230000
DTSTAMP:20260421T125942
CREATED:20150223T205924Z
LAST-MODIFIED:20150224T222645Z
UID:73946-1425758400-1425769200@deathmagnetic.pl
SUMMARY:Hunter + Nutshell + Tug Boat
DESCRIPTION:Ceny biletów (przedsprzedaż / w dniu koncertu): \n37 zł / 45 zł \nBilety dostępne na: \nTicketpro oraz Ebilet oraz w stacjonarnych punktach sprzedaży tych systemów.\nBilety kolekcjonerskie (w tej samej cenie!) są już dostępne w Klubie Studio (ul. Budryka 4)\, Klubie Gwarek (ul. Reymonta 17) oraz w Klubie Filutek (ul. Rostafińskiego 10). \nGoście specjalni: Vogg i Rasta z Decapitated
URL:https://deathmagnetic.pl/wydarzenie/hunter-nutshell-tug-boat/
LOCATION:Klub Studio\, Budryka 4\, Kraków\, Polska
CATEGORIES:Koncerty,Polskie
ATTACH;FMTTYPE=image/jpeg:https://deathmagnetic.pl/wp-content/uploads/2015/02/Hunter3.jpg
GEO:50.0683099;19.908494
X-APPLE-STRUCTURED-LOCATION;VALUE=URI;X-ADDRESS=Klub Studio Budryka 4 Kraków Polska;X-APPLE-RADIUS=500;X-TITLE=Budryka 4:geo:19.908494,50.0683099
END:VEVENT
END:VCALENDAR