BEGIN:VCALENDAR
VERSION:2.0
PRODID:-//Death Magnetic - ECPv5.10.1//NONSGML v1.0//EN
CALSCALE:GREGORIAN
METHOD:PUBLISH
X-WR-CALNAME:Death Magnetic
X-ORIGINAL-URL:https://deathmagnetic.pl
X-WR-CALDESC:Events for Death Magnetic
BEGIN:VTIMEZONE
TZID:Europe/Warsaw
BEGIN:DAYLIGHT
TZOFFSETFROM:+0100
TZOFFSETTO:+0200
TZNAME:CEST
DTSTART:20150329T010000
END:DAYLIGHT
BEGIN:STANDARD
TZOFFSETFROM:+0200
TZOFFSETTO:+0100
TZNAME:CET
DTSTART:20151025T010000
END:STANDARD
END:VTIMEZONE
BEGIN:VEVENT
DTSTART;TZID=Europe/Warsaw:20151025T190000
DTEND;TZID=Europe/Warsaw:20151025T230000
DTSTAMP:20260421T072335
CREATED:20151012T174144Z
LAST-MODIFIED:20151012T174144Z
UID:93160-1445799600-1445814000@deathmagnetic.pl
SUMMARY:Hunter + Black Perfume
DESCRIPTION:Ceny biletów:\n35 zł – 200 szt. wyłącznie rezerwacje: bilety@o2.pl\n40 zł – przedsprzedaż\n45 zł – w dniu koncertu\n50 zł – miejsca siedzące (balkon) \nDostępne w salonach Empik i Media Markt oraz w serwisach Biletin\, Ticketpro\, eBilet oraz Eventim.  \nJesienna trasa koncertowa z okazji Jubileuszu XXX-lecia Huntera startuje z początkiem października 2015. Zespół planuje z tej okazji serię kilkunastu koncertów na które zaprosi kolejnych wyjątkowych gości. Podczas koncertów zespół zagra utwory\, które od dawna lub nigdy nie były grane na koncertach. W jednym z nich pojawią się także zwycięzcy ogłoszonego właśnie na zespołowym FB konkursu – „I Ty możesz zaśpiewać z Hunterem”. Wszystko w jubileuszowej oprawie wizualnej i pirotechnicznej. Zagrają także zespoły supportujące. romocyjnie trasę ma wspierać materiał\, który zespół zarejestrował w warszawskim Palladium podczas trasy promującej ostatnie wydawnictwo płytowe „Imperium”. Prace nad jego ukończeniem wkraczają już w ostatnią fazę produkcyjną. Jednocześnie trwają przygotowania do rejestracji pierwszego w historii Huntera projektu akustycznego(DVD/CD).
URL:https://deathmagnetic.pl/wydarzenie/hunter-black-perfume-3/
LOCATION:Stary Klasztor\, Purkyniego 1\, Wrocław\, Polska
CATEGORIES:Koncerty,Polskie
ATTACH;FMTTYPE=image/jpeg:https://deathmagnetic.pl/wp-content/uploads/2015/10/11800160_820636401384830_490647349293016844_n.jpg
GEO:51.1101998;17.0396273
X-APPLE-STRUCTURED-LOCATION;VALUE=URI;X-ADDRESS=Stary Klasztor Purkyniego 1 Wrocław Polska;X-APPLE-RADIUS=500;X-TITLE=Purkyniego 1:geo:17.0396273,51.1101998
END:VEVENT
END:VCALENDAR