BEGIN:VCALENDAR
VERSION:2.0
PRODID:-//Death Magnetic - ECPv5.10.1//NONSGML v1.0//EN
CALSCALE:GREGORIAN
METHOD:PUBLISH
X-WR-CALNAME:Death Magnetic
X-ORIGINAL-URL:https://deathmagnetic.pl
X-WR-CALDESC:Events for Death Magnetic
BEGIN:VTIMEZONE
TZID:Europe/Warsaw
BEGIN:DAYLIGHT
TZOFFSETFROM:+0100
TZOFFSETTO:+0200
TZNAME:CEST
DTSTART:20170326T010000
END:DAYLIGHT
BEGIN:STANDARD
TZOFFSETFROM:+0200
TZOFFSETTO:+0100
TZNAME:CET
DTSTART:20171029T010000
END:STANDARD
END:VTIMEZONE
BEGIN:VEVENT
DTSTART;TZID=Europe/Warsaw:20170305T180000
DTEND;TZID=Europe/Warsaw:20170305T230000
DTSTAMP:20260421T034335
CREATED:20170210T183508Z
LAST-MODIFIED:20170210T183508Z
UID:111518-1488736800-1488754800@deathmagnetic.pl
SUMMARY:Hunter
DESCRIPTION:Bilety:\n40zł http://pwevents.pl/bilety/hunter-blue-note-poznan/456/62\n45zł – przedsprzedaż\,\n50zł – w dniu koncertu
URL:https://deathmagnetic.pl/wydarzenie/hunter-6/
LOCATION:Blue Note Jazz Club\, ul. Kościuszki 79\, Poznań\, 61-891\, Polska
CATEGORIES:Koncerty,Polskie
ATTACH;FMTTYPE=image/jpeg:https://deathmagnetic.pl/wp-content/uploads/2017/02/hunter.jpg
END:VEVENT
END:VCALENDAR