BEGIN:VCALENDAR
VERSION:2.0
PRODID:-//Death Magnetic - ECPv5.10.1//NONSGML v1.0//EN
CALSCALE:GREGORIAN
METHOD:PUBLISH
X-WR-CALNAME:Death Magnetic
X-ORIGINAL-URL:https://deathmagnetic.pl
X-WR-CALDESC:Events for Death Magnetic
BEGIN:VTIMEZONE
TZID:Europe/Warsaw
BEGIN:DAYLIGHT
TZOFFSETFROM:+0100
TZOFFSETTO:+0200
TZNAME:CEST
DTSTART:20180325T010000
END:DAYLIGHT
BEGIN:STANDARD
TZOFFSETFROM:+0200
TZOFFSETTO:+0100
TZNAME:CET
DTSTART:20181028T010000
END:STANDARD
END:VTIMEZONE
BEGIN:VEVENT
DTSTART;TZID=Europe/Warsaw:20180223T190000
DTEND;TZID=Europe/Warsaw:20180223T233000
DTSTAMP:20260420T224658
CREATED:20180130T162853Z
LAST-MODIFIED:20180130T162853Z
UID:154841-1519412400-1519428600@deathmagnetic.pl
SUMMARY:HOP 2018 Tour: Inkwizycja + The Corpse + Dziady Borowe + Wostok
DESCRIPTION:15zł
URL:https://deathmagnetic.pl/wydarzenie/hop-2018-tour-inkwizycja-the-corpse-dziady-borowe-wostok/
LOCATION:Zieleniak Pub\, Lubelska 30\, Kozienice\, mazowieckie\, 26-900\, Polska
CATEGORIES:Koncerty,Polskie
ATTACH;FMTTYPE=image/jpeg:https://deathmagnetic.pl/wp-content/uploads/2018/01/27331908_10208370991672727_2042336544330627962_n.jpg
GEO:51.581955;21.5547839
X-APPLE-STRUCTURED-LOCATION;VALUE=URI;X-ADDRESS=Zieleniak Pub Lubelska 30 Kozienice mazowieckie 26-900 Polska;X-APPLE-RADIUS=500;X-TITLE=Lubelska 30:geo:21.5547839,51.581955
END:VEVENT
END:VCALENDAR