BEGIN:VCALENDAR
VERSION:2.0
PRODID:-//Death Magnetic - ECPv5.10.1//NONSGML v1.0//EN
CALSCALE:GREGORIAN
METHOD:PUBLISH
X-WR-CALNAME:Death Magnetic
X-ORIGINAL-URL:https://deathmagnetic.pl
X-WR-CALDESC:Events for Death Magnetic
BEGIN:VTIMEZONE
TZID:Europe/Warsaw
BEGIN:DAYLIGHT
TZOFFSETFROM:+0100
TZOFFSETTO:+0200
TZNAME:CEST
DTSTART:20180325T010000
END:DAYLIGHT
BEGIN:STANDARD
TZOFFSETFROM:+0200
TZOFFSETTO:+0100
TZNAME:CET
DTSTART:20181028T010000
END:STANDARD
END:VTIMEZONE
BEGIN:VEVENT
DTSTART;TZID=Europe/Warsaw:20180323T190000
DTEND;TZID=Europe/Warsaw:20180323T233000
DTSTAMP:20260420T142615
CREATED:20180130T164118Z
LAST-MODIFIED:20180130T164118Z
UID:154846-1521831600-1521847800@deathmagnetic.pl
SUMMARY:HOP 2018 Tour: Inkwizycja + The Corpse + Dziady Borowe + TBA
DESCRIPTION:15zł
URL:https://deathmagnetic.pl/wydarzenie/hop-2018-tour-inkwizycja-the-corpse-dziady-borowe-tba/
LOCATION:Andrzeju\, nie denerwuj się\, Piotrkowska 43\, Łódź\, mazowieckie\, Polska
CATEGORIES:Koncerty,Polskie
ATTACH;FMTTYPE=image/jpeg:https://deathmagnetic.pl/wp-content/uploads/2018/01/27331908_10208370991672727_2042336544330627962_n-2.jpg
GEO:51.3753679;20.277613
X-APPLE-STRUCTURED-LOCATION;VALUE=URI;X-ADDRESS=Andrzeju nie denerwuj się Piotrkowska 43 Łódź mazowieckie Polska;X-APPLE-RADIUS=500;X-TITLE=Piotrkowska 43:geo:20.277613,51.3753679
END:VEVENT
END:VCALENDAR