BEGIN:VCALENDAR
VERSION:2.0
PRODID:-//Death Magnetic - ECPv5.10.1//NONSGML v1.0//EN
CALSCALE:GREGORIAN
METHOD:PUBLISH
X-WR-CALNAME:Death Magnetic
X-ORIGINAL-URL:https://deathmagnetic.pl
X-WR-CALDESC:Events for Death Magnetic
BEGIN:VTIMEZONE
TZID:Europe/Warsaw
BEGIN:DAYLIGHT
TZOFFSETFROM:+0100
TZOFFSETTO:+0200
TZNAME:CEST
DTSTART:20180325T010000
END:DAYLIGHT
BEGIN:STANDARD
TZOFFSETFROM:+0200
TZOFFSETTO:+0100
TZNAME:CET
DTSTART:20181028T010000
END:STANDARD
END:VTIMEZONE
BEGIN:VEVENT
DTSTART;TZID=Europe/Warsaw:20180405T190000
DTEND;TZID=Europe/Warsaw:20180405T233000
DTSTAMP:20260420T152021
CREATED:20180130T165649Z
LAST-MODIFIED:20180130T165758Z
UID:154850-1522954800-1522971000@deathmagnetic.pl
SUMMARY:HOP 2018 Tour: Inkwizycja + The Corpse + Dziady Borowe + TBA
DESCRIPTION:15zł
URL:https://deathmagnetic.pl/wydarzenie/hop-2018-tour-inkwizycja-the-corpse-dziady-borowe-tba-2/
LOCATION:C.K.N. 13\, Jana Śliwki 13\, Gliwice\, śląskie\, 44-100
CATEGORIES:Koncerty,Polskie
ATTACH;FMTTYPE=image/jpeg:https://deathmagnetic.pl/wp-content/uploads/2018/01/27331908_10208370991672727_2042336544330627962_n-4.jpg
END:VEVENT
END:VCALENDAR