BEGIN:VCALENDAR
VERSION:2.0
PRODID:-//Death Magnetic - ECPv5.10.1//NONSGML v1.0//EN
CALSCALE:GREGORIAN
METHOD:PUBLISH
X-WR-CALNAME:Death Magnetic
X-ORIGINAL-URL:https://deathmagnetic.pl
X-WR-CALDESC:Events for Death Magnetic
BEGIN:VTIMEZONE
TZID:Europe/Warsaw
BEGIN:DAYLIGHT
TZOFFSETFROM:+0100
TZOFFSETTO:+0200
TZNAME:CEST
DTSTART:20180325T010000
END:DAYLIGHT
BEGIN:STANDARD
TZOFFSETFROM:+0200
TZOFFSETTO:+0100
TZNAME:CET
DTSTART:20181028T010000
END:STANDARD
END:VTIMEZONE
BEGIN:VEVENT
DTSTART;TZID=Europe/Warsaw:20180406T190000
DTEND;TZID=Europe/Warsaw:20180406T233000
DTSTAMP:20260420T142626
CREATED:20180130T170455Z
LAST-MODIFIED:20180130T170455Z
UID:154853-1523041200-1523057400@deathmagnetic.pl
SUMMARY:HOP 2018 Tour: Inkwizycja + The Corpse + Dziady Borowe + Mand
DESCRIPTION:20zł
URL:https://deathmagnetic.pl/wydarzenie/hop-2018-tour-inkwizycja-the-corpse-dziady-borowe-mand/
LOCATION:Warsztat\, Zabłocie 9a/9b\, Kraków\, Polska
CATEGORIES:Koncerty,Polskie
ATTACH;FMTTYPE=image/jpeg:https://deathmagnetic.pl/wp-content/uploads/2018/01/27331908_10208370991672727_2042336544330627962_n-5.jpg
GEO:50.049679;19.956231
X-APPLE-STRUCTURED-LOCATION;VALUE=URI;X-ADDRESS=Warsztat Zabłocie 9a/9b Kraków Polska;X-APPLE-RADIUS=500;X-TITLE=Zabłocie 9a/9b:geo:19.956231,50.049679
END:VEVENT
END:VCALENDAR