BEGIN:VCALENDAR
VERSION:2.0
PRODID:-//Death Magnetic - ECPv5.10.1//NONSGML v1.0//EN
CALSCALE:GREGORIAN
METHOD:PUBLISH
X-WR-CALNAME:Death Magnetic
X-ORIGINAL-URL:https://deathmagnetic.pl
X-WR-CALDESC:Events for Death Magnetic
BEGIN:VTIMEZONE
TZID:Europe/Warsaw
BEGIN:DAYLIGHT
TZOFFSETFROM:+0100
TZOFFSETTO:+0200
TZNAME:CEST
DTSTART:20180325T010000
END:DAYLIGHT
BEGIN:STANDARD
TZOFFSETFROM:+0200
TZOFFSETTO:+0100
TZNAME:CET
DTSTART:20181028T010000
END:STANDARD
END:VTIMEZONE
BEGIN:VEVENT
DTSTART;TZID=Europe/Warsaw:20180224T190000
DTEND;TZID=Europe/Warsaw:20180224T233000
DTSTAMP:20260421T005010
CREATED:20180130T163554Z
LAST-MODIFIED:20180130T163554Z
UID:154843-1519498800-1519515000@deathmagnetic.pl
SUMMARY:HOP 2018 Tour: Inkwizycja + The Corpse + Dziady Borowe + Black Palate
DESCRIPTION:15zł
URL:https://deathmagnetic.pl/wydarzenie/hop-2018-tour-inkwizycja-the-corpse-dziady-borowe-black-palate/
LOCATION:Just Crafted\, Cicha 2\, Lublin\, lubelskie\, 20-078\, Polska
CATEGORIES:Koncerty,Polskie
ATTACH;FMTTYPE=image/jpeg:https://deathmagnetic.pl/wp-content/uploads/2018/01/27331908_10208370991672727_2042336544330627962_n-1.jpg
GEO:51.2495247;22.5576363
X-APPLE-STRUCTURED-LOCATION;VALUE=URI;X-ADDRESS=Just Crafted Cicha 2 Lublin lubelskie 20-078 Polska;X-APPLE-RADIUS=500;X-TITLE=Cicha 2:geo:22.5576363,51.2495247
END:VEVENT
END:VCALENDAR