BEGIN:VCALENDAR
VERSION:2.0
PRODID:-//Death Magnetic - ECPv5.10.1//NONSGML v1.0//EN
CALSCALE:GREGORIAN
METHOD:PUBLISH
X-WR-CALNAME:Death Magnetic
X-ORIGINAL-URL:https://deathmagnetic.pl
X-WR-CALDESC:Events for Death Magnetic
BEGIN:VTIMEZONE
TZID:Europe/Warsaw
BEGIN:DAYLIGHT
TZOFFSETFROM:+0100
TZOFFSETTO:+0200
TZNAME:CEST
DTSTART:20160327T010000
END:DAYLIGHT
BEGIN:STANDARD
TZOFFSETFROM:+0200
TZOFFSETTO:+0100
TZNAME:CET
DTSTART:20161030T010000
END:STANDARD
END:VTIMEZONE
BEGIN:VEVENT
DTSTART;TZID=Europe/Warsaw:20160403T180000
DTEND;TZID=Europe/Warsaw:20160403T230000
DTSTAMP:20260421T080933
CREATED:20160207T141057Z
LAST-MODIFIED:20160207T141057Z
UID:97093-1459706400-1459724400@deathmagnetic.pl
SUMMARY:Hollywood Undead + Attila
DESCRIPTION:Bilety od 99 pln dostępne od 2 listopada od godziny 10:00 na www.stodola.pl i www.livenation.pl \nWejście: 18:00
URL:https://deathmagnetic.pl/wydarzenie/hollywood-undead-attila/
LOCATION:Stodoła\, Batorego 10\, Warszawa\, mazowieckie\, Polska
CATEGORIES:Koncerty,zagraniczne
ATTACH;FMTTYPE=image/png:https://deathmagnetic.pl/wp-content/uploads/2016/02/Hollywwod-Undead.png
ORGANIZER;CN="Live%20Nation":MAILTO:info@livenation.pl
GEO:52.2116;21.0101859
X-APPLE-STRUCTURED-LOCATION;VALUE=URI;X-ADDRESS=Stodoła Batorego 10 Warszawa mazowieckie Polska;X-APPLE-RADIUS=500;X-TITLE=Batorego 10:geo:21.0101859,52.2116
END:VEVENT
END:VCALENDAR