BEGIN:VCALENDAR
VERSION:2.0
PRODID:-//Death Magnetic - ECPv5.10.1//NONSGML v1.0//EN
CALSCALE:GREGORIAN
METHOD:PUBLISH
X-WR-CALNAME:Death Magnetic
X-ORIGINAL-URL:https://deathmagnetic.pl
X-WR-CALDESC:Events for Death Magnetic
BEGIN:VTIMEZONE
TZID:Europe/Warsaw
BEGIN:DAYLIGHT
TZOFFSETFROM:+0100
TZOFFSETTO:+0200
TZNAME:CEST
DTSTART:20150329T010000
END:DAYLIGHT
BEGIN:STANDARD
TZOFFSETFROM:+0200
TZOFFSETTO:+0100
TZNAME:CET
DTSTART:20151025T010000
END:STANDARD
END:VTIMEZONE
BEGIN:VEVENT
DTSTART;TZID=Europe/Warsaw:20150322T200000
DTEND;TZID=Europe/Warsaw:20150322T230000
DTSTAMP:20260421T135428
CREATED:20150221T112257Z
LAST-MODIFIED:20150225T132408Z
UID:73480-1427054400-1427065200@deathmagnetic.pl
SUMMARY:Hegemone + Death Engine + Blank Faces
DESCRIPTION:Cena biletów: \n10 zł \nStart: 20:00
URL:https://deathmagnetic.pl/wydarzenie/hegemone-death-engine-blank-faces/
LOCATION:Alive\, Kolejowa 12\, Wrocław\, Polska
CATEGORIES:Koncerty,Polskie
ATTACH;FMTTYPE=image/jpeg:https://deathmagnetic.pl/wp-content/uploads/2015/02/Hegemone.jpg
ORGANIZER;CN="Wild%20Bread%20Booking":MAILTO:WildBreadBooking@gmail.com
GEO:51.1020357;17.0210339
X-APPLE-STRUCTURED-LOCATION;VALUE=URI;X-ADDRESS=Alive Kolejowa 12 Wrocław Polska;X-APPLE-RADIUS=500;X-TITLE=Kolejowa 12:geo:17.0210339,51.1020357
END:VEVENT
END:VCALENDAR