BEGIN:VCALENDAR
VERSION:2.0
PRODID:-//Death Magnetic - ECPv5.10.1//NONSGML v1.0//EN
CALSCALE:GREGORIAN
METHOD:PUBLISH
X-WR-CALNAME:Death Magnetic
X-ORIGINAL-URL:https://deathmagnetic.pl
X-WR-CALDESC:Events for Death Magnetic
BEGIN:VTIMEZONE
TZID:Europe/Warsaw
BEGIN:DAYLIGHT
TZOFFSETFROM:+0100
TZOFFSETTO:+0200
TZNAME:CEST
DTSTART:20150329T010000
END:DAYLIGHT
BEGIN:STANDARD
TZOFFSETFROM:+0200
TZOFFSETTO:+0100
TZNAME:CET
DTSTART:20151025T010000
END:STANDARD
END:VTIMEZONE
BEGIN:VEVENT
DTSTART;TZID=Europe/Warsaw:20150309T190000
DTEND;TZID=Europe/Warsaw:20150309T230000
DTSTAMP:20260420T205047
CREATED:20150219T202102Z
LAST-MODIFIED:20150224T223345Z
UID:73310-1425927600-1425942000@deathmagnetic.pl
SUMMARY:Heathen Foray + Netherfell + Wölfrider + Eagle the White
DESCRIPTION:Ceny biletów (przedsprzedaż / w dniu koncertu): \n15zł / 20zł \nBilety dostępne na:\nTicketpro\, Eventim oraz w Media Markcie\, Saturnie i Empiku. \nOtwarcie bram: 18:30\nStart: 19:00 \n 
URL:https://deathmagnetic.pl/wydarzenie/heathen-foray-netherfell-wolfrider-eagle-the-white/
LOCATION:Klub Muzyczny Liverpool\, Świdnicka 37\, Wrocław\, Polska
CATEGORIES:Koncerty,zagraniczne
ATTACH;FMTTYPE=image/jpeg:https://deathmagnetic.pl/wp-content/uploads/2015/02/Heathen.jpg
ORGANIZER;CN="Heart%20Of%20Rock%20Agency":MAILTO:office@heartofrockagency.com
GEO:51.104006;17.030348
X-APPLE-STRUCTURED-LOCATION;VALUE=URI;X-ADDRESS=Klub Muzyczny Liverpool Świdnicka 37 Wrocław Polska;X-APPLE-RADIUS=500;X-TITLE=Świdnicka 37:geo:17.030348,51.104006
END:VEVENT
END:VCALENDAR