BEGIN:VCALENDAR
VERSION:2.0
PRODID:-//Death Magnetic - ECPv5.10.1//NONSGML v1.0//EN
CALSCALE:GREGORIAN
METHOD:PUBLISH
X-WR-CALNAME:Death Magnetic
X-ORIGINAL-URL:https://deathmagnetic.pl
X-WR-CALDESC:Events for Death Magnetic
BEGIN:VTIMEZONE
TZID:Europe/Warsaw
BEGIN:DAYLIGHT
TZOFFSETFROM:+0100
TZOFFSETTO:+0200
TZNAME:CEST
DTSTART:20150329T010000
END:DAYLIGHT
BEGIN:STANDARD
TZOFFSETFROM:+0200
TZOFFSETTO:+0100
TZNAME:CET
DTSTART:20151025T010000
END:STANDARD
END:VTIMEZONE
BEGIN:VEVENT
DTSTART;TZID=Europe/Warsaw:20150411T190000
DTEND;TZID=Europe/Warsaw:20150411T234500
DTSTAMP:20260421T060658
CREATED:20150223T201544Z
LAST-MODIFIED:20150225T152814Z
UID:73908-1428778800-1428795900@deathmagnetic.pl
SUMMARY:Heathen Foray + Netherfell + Valkenragr + Othalan + Runika + Elforg
DESCRIPTION:Ceny biletów (przedsprzedaż / w dniu koncertu): \n25 zł / 30 zł \nBilety dostępne na:\nEventim\, Ticketpro\, Progresja oraz w MediaMarkt\, Saturn i Empik \nStart: 19:00 \n 
URL:https://deathmagnetic.pl/wydarzenie/heathen-foray-netherfell-valkenragr-othalan-runika-elforg-2/
LOCATION:Progresja\, Fort Wola 22\, Warszawa\, Polska
CATEGORIES:Koncerty,zagraniczne
ATTACH;FMTTYPE=image/jpeg:https://deathmagnetic.pl/wp-content/uploads/2015/02/Heathen-Foray.jpg
ORGANIZER;CN="Heart%20Of%20Rock%20Agency":MAILTO:office@heartofrockagency.com
GEO:52.224827;20.9287
X-APPLE-STRUCTURED-LOCATION;VALUE=URI;X-ADDRESS=Progresja Fort Wola 22 Warszawa Polska;X-APPLE-RADIUS=500;X-TITLE=Fort Wola 22:geo:20.9287,52.224827
END:VEVENT
END:VCALENDAR