BEGIN:VCALENDAR
VERSION:2.0
PRODID:-//Death Magnetic - ECPv5.10.1//NONSGML v1.0//EN
CALSCALE:GREGORIAN
METHOD:PUBLISH
X-WR-CALNAME:Death Magnetic
X-ORIGINAL-URL:https://deathmagnetic.pl
X-WR-CALDESC:Events for Death Magnetic
BEGIN:VTIMEZONE
TZID:Europe/Warsaw
BEGIN:DAYLIGHT
TZOFFSETFROM:+0100
TZOFFSETTO:+0200
TZNAME:CEST
DTSTART:20150329T010000
END:DAYLIGHT
BEGIN:STANDARD
TZOFFSETFROM:+0200
TZOFFSETTO:+0100
TZNAME:CET
DTSTART:20151025T010000
END:STANDARD
END:VTIMEZONE
BEGIN:VEVENT
DTSTART;TZID=Europe/Warsaw:20150331T190000
DTEND;TZID=Europe/Warsaw:20150331T230000
DTSTAMP:20260420T205619
CREATED:20150219T202549Z
LAST-MODIFIED:20150225T143745Z
UID:73315-1427828400-1427842800@deathmagnetic.pl
SUMMARY:Heathen Foray + Netherfell + Kryvoda
DESCRIPTION:Ceny biletów (przedsprzedaż / w dniu koncertu): \n15zł / 20zł \nBilety dostępne na:\nTicketpro\, Eventim oraz w sklepach sieci Empik\, Media Markt i Saturn. \nOtwarcie bram: 18:30\nStart: 19:00 \n 
URL:https://deathmagnetic.pl/wydarzenie/heathen-foray-netherfell-kryvoda/
LOCATION:Rock’a Club\, Rynek 18\, Gliwice\, Polska
CATEGORIES:Koncerty,zagraniczne
ATTACH;FMTTYPE=image/jpeg:https://deathmagnetic.pl/wp-content/uploads/2015/02/Heathen.jpg
ORGANIZER;CN="Heart%20Of%20Rock%20Agency":MAILTO:office@heartofrockagency.com
GEO:50.294187;18.666277
X-APPLE-STRUCTURED-LOCATION;VALUE=URI;X-ADDRESS=Rock’a Club Rynek 18 Gliwice Polska;X-APPLE-RADIUS=500;X-TITLE=Rynek 18:geo:18.666277,50.294187
END:VEVENT
END:VCALENDAR