BEGIN:VCALENDAR
VERSION:2.0
PRODID:-//Death Magnetic - ECPv5.10.1//NONSGML v1.0//EN
CALSCALE:GREGORIAN
METHOD:PUBLISH
X-WR-CALNAME:Death Magnetic
X-ORIGINAL-URL:https://deathmagnetic.pl
X-WR-CALDESC:Events for Death Magnetic
BEGIN:VTIMEZONE
TZID:Europe/Warsaw
BEGIN:DAYLIGHT
TZOFFSETFROM:+0100
TZOFFSETTO:+0200
TZNAME:CEST
DTSTART:20150329T010000
END:DAYLIGHT
BEGIN:STANDARD
TZOFFSETFROM:+0200
TZOFFSETTO:+0100
TZNAME:CET
DTSTART:20151025T010000
END:STANDARD
END:VTIMEZONE
BEGIN:VEVENT
DTSTART;TZID=Europe/Warsaw:20150415T190000
DTEND;TZID=Europe/Warsaw:20150415T230000
DTSTAMP:20260420T210656
CREATED:20150219T200410Z
LAST-MODIFIED:20150225T154506Z
UID:73289-1429124400-1429138800@deathmagnetic.pl
SUMMARY:Heathen Foray + Netherfell + Diaboł Boruta + Radogost
DESCRIPTION:Cena biletów: \n15 zł \n  \nBilety do kupienia na: \nKlubie\, na Eventim\, Ticketpro oraz w MediaMarkt\, Saturn i Empik \nBramki:  18:30 \nStart: 19:00
URL:https://deathmagnetic.pl/wydarzenie/heathen-foray-netherfell-diabol-boruta-radogost/
LOCATION:Rudeboy Club\, 1 maja 20\, Bielsko-Biała\, 43-300\, Polska
CATEGORIES:Koncerty,zagraniczne
ATTACH;FMTTYPE=image/jpeg:https://deathmagnetic.pl/wp-content/uploads/2015/02/Folk-metal-crusade.jpg
GEO:49.817453;19.0456459
X-APPLE-STRUCTURED-LOCATION;VALUE=URI;X-ADDRESS=Rudeboy Club 1 maja 20 Bielsko-Biała 43-300 Polska;X-APPLE-RADIUS=500;X-TITLE=1 maja 20:geo:19.0456459,49.817453
END:VEVENT
END:VCALENDAR