BEGIN:VCALENDAR
VERSION:2.0
PRODID:-//Death Magnetic - ECPv5.10.1//NONSGML v1.0//EN
CALSCALE:GREGORIAN
METHOD:PUBLISH
X-WR-CALNAME:Death Magnetic
X-ORIGINAL-URL:https://deathmagnetic.pl
X-WR-CALDESC:Events for Death Magnetic
BEGIN:VTIMEZONE
TZID:Europe/Warsaw
BEGIN:DAYLIGHT
TZOFFSETFROM:+0100
TZOFFSETTO:+0200
TZNAME:CEST
DTSTART:20150329T010000
END:DAYLIGHT
BEGIN:STANDARD
TZOFFSETFROM:+0200
TZOFFSETTO:+0100
TZNAME:CET
DTSTART:20151025T010000
END:STANDARD
END:VTIMEZONE
BEGIN:VEVENT
DTSTART;TZID=Europe/Warsaw:20150419T190000
DTEND;TZID=Europe/Warsaw:20150419T230000
DTSTAMP:20260421T110407
CREATED:20150324T193520Z
LAST-MODIFIED:20150324T193520Z
UID:77539-1429470000-1429484400@deathmagnetic.pl
SUMMARY:Grieved
DESCRIPTION:Ceny biletów (przedsprzedaż / w dniu koncertu): \n20 zł / 25 zł \nBilety dostępne na:\nTicketpro\, Eventim\, Ebilet\, Biletomat\, stronie GoAhead oraz w sklepach sieci Media Markt i Saturn. \nBramki: 19:00 \nStart: 20:00
URL:https://deathmagnetic.pl/wydarzenie/grieved/
LOCATION:Klub Pod Minogą\, Nowowiejskiego 8\, Poznań\, Polska
CATEGORIES:Koncerty,zagraniczne
ATTACH;FMTTYPE=image/jpeg:https://deathmagnetic.pl/wp-content/uploads/2015/03/Grieved-Poznań-2015.jpg
ORGANIZER;CN="Go%20Ahead":MAILTO:agencja@go-ahead.pl
GEO:52.4093124;16.9270295
X-APPLE-STRUCTURED-LOCATION;VALUE=URI;X-ADDRESS=Klub Pod Minogą Nowowiejskiego 8 Poznań Polska;X-APPLE-RADIUS=500;X-TITLE=Nowowiejskiego 8:geo:16.9270295,52.4093124
END:VEVENT
END:VCALENDAR