BEGIN:VCALENDAR
VERSION:2.0
PRODID:-//Death Magnetic - ECPv5.10.1//NONSGML v1.0//EN
CALSCALE:GREGORIAN
METHOD:PUBLISH
X-WR-CALNAME:Death Magnetic
X-ORIGINAL-URL:https://deathmagnetic.pl
X-WR-CALDESC:Events for Death Magnetic
BEGIN:VTIMEZONE
TZID:Europe/Warsaw
BEGIN:DAYLIGHT
TZOFFSETFROM:+0100
TZOFFSETTO:+0200
TZNAME:CEST
DTSTART:20160327T010000
END:DAYLIGHT
BEGIN:STANDARD
TZOFFSETFROM:+0200
TZOFFSETTO:+0100
TZNAME:CET
DTSTART:20161030T010000
END:STANDARD
END:VTIMEZONE
BEGIN:VEVENT
DTSTART;TZID=Europe/Warsaw:20160720T200000
DTEND;TZID=Europe/Warsaw:20160720T230000
DTSTAMP:20260421T051646
CREATED:20160206T115629Z
LAST-MODIFIED:20160206T115629Z
UID:96927-1469044800-1469055600@deathmagnetic.pl
SUMMARY:GRAI
DESCRIPTION:  \nCeny biletów: \n25 zł (przedsprzedaż: Ticketpro\, Eventim oraz salony MediaMarkt\, Saturn i Empik)\n30 zł (w dniu koncertu) \nWięcej szczegółów wkrótce.
URL:https://deathmagnetic.pl/wydarzenie/grai/
LOCATION:Klub Muzyczny Liverpool\, Świdnicka 37\, Wrocław\, Polska
CATEGORIES:Koncerty,zagraniczne
ATTACH;FMTTYPE=image/jpeg:https://deathmagnetic.pl/wp-content/uploads/2016/02/grai-2.jpg
ORGANIZER;CN="Heart%20Of%20Rock%20Agency":MAILTO:office@heartofrockagency.com
GEO:51.104006;17.030348
X-APPLE-STRUCTURED-LOCATION;VALUE=URI;X-ADDRESS=Klub Muzyczny Liverpool Świdnicka 37 Wrocław Polska;X-APPLE-RADIUS=500;X-TITLE=Świdnicka 37:geo:17.030348,51.104006
END:VEVENT
END:VCALENDAR